BEGIN:VCALENDAR
VERSION:2.0
PRODID:-//Collectif - ECPv6.15.12.2//NONSGML v1.0//EN
CALSCALE:GREGORIAN
METHOD:PUBLISH
X-ORIGINAL-URL:https://www.cfiq.ca/en/
X-WR-CALDESC:Events for Collectif
REFRESH-INTERVAL;VALUE=DURATION:PT1H
X-Robots-Tag:noindex
X-PUBLISHED-TTL:PT1H
BEGIN:VTIMEZONE
TZID:America/Toronto
BEGIN:DAYLIGHT
TZOFFSETFROM:-0500
TZOFFSETTO:-0400
TZNAME:EDT
DTSTART:20250309T070000
END:DAYLIGHT
BEGIN:STANDARD
TZOFFSETFROM:-0400
TZOFFSETTO:-0500
TZNAME:EST
DTSTART:20251102T060000
END:STANDARD
BEGIN:DAYLIGHT
TZOFFSETFROM:-0500
TZOFFSETTO:-0400
TZNAME:EDT
DTSTART:20260308T070000
END:DAYLIGHT
BEGIN:STANDARD
TZOFFSETFROM:-0400
TZOFFSETTO:-0500
TZNAME:EST
DTSTART:20261101T060000
END:STANDARD
BEGIN:DAYLIGHT
TZOFFSETFROM:-0500
TZOFFSETTO:-0400
TZNAME:EDT
DTSTART:20270314T070000
END:DAYLIGHT
BEGIN:STANDARD
TZOFFSETFROM:-0400
TZOFFSETTO:-0500
TZNAME:EST
DTSTART:20271107T060000
END:STANDARD
BEGIN:DAYLIGHT
TZOFFSETFROM:-0500
TZOFFSETTO:-0400
TZNAME:EDT
DTSTART:20280312T070000
END:DAYLIGHT
BEGIN:STANDARD
TZOFFSETFROM:-0400
TZOFFSETTO:-0500
TZNAME:EST
DTSTART:20281105T060000
END:STANDARD
END:VTIMEZONE
BEGIN:VEVENT
DTSTART;TZID=America/Toronto:20261016T090000
DTEND;TZID=America/Toronto:20261016T120000
DTSTAMP:20260425T115807
CREATED:20260109T143132Z
LAST-MODIFIED:20260112T183437Z
UID:10006121-1792141200-1792152000@www.cfiq.ca
SUMMARY:Cours d'informatique en ligne (niveau débutant)
DESCRIPTION:
URL:https://www.cfiq.ca/en/evenement/cours-dinformatique-en-ligne-niveau-debutant/2026-10-16/
LOCATION:Online event
ORGANIZER;CN="Collectif - B%C3%A9langer":MAILTO:emploi@cfiq.ca
END:VEVENT
BEGIN:VEVENT
DTSTART;TZID=America/Toronto:20261016T130000
DTEND;TZID=America/Toronto:20261016T160000
DTSTAMP:20260425T115807
CREATED:20260112T141024Z
LAST-MODIFIED:20260112T181543Z
UID:10006069-1792155600-1792166400@www.cfiq.ca
SUMMARY:Cours d'informatique en ligne (Niveau Intermédiaire-Avancé)
DESCRIPTION:
URL:https://www.cfiq.ca/en/evenement/cours-dinformatique-en-ligne-niveau-intermediaire-avance-2/2026-10-16/
LOCATION:Online event
ORGANIZER;CN="Collectif - B%C3%A9langer":MAILTO:emploi@cfiq.ca
END:VEVENT
BEGIN:VEVENT
DTSTART;TZID=America/Toronto:20261023T090000
DTEND;TZID=America/Toronto:20261023T120000
DTSTAMP:20260425T115807
CREATED:20260109T143132Z
LAST-MODIFIED:20260112T183437Z
UID:10006122-1792746000-1792756800@www.cfiq.ca
SUMMARY:Cours d'informatique en ligne (niveau débutant)
DESCRIPTION:
URL:https://www.cfiq.ca/en/evenement/cours-dinformatique-en-ligne-niveau-debutant/2026-10-23/
LOCATION:Online event
ORGANIZER;CN="Collectif - B%C3%A9langer":MAILTO:emploi@cfiq.ca
END:VEVENT
BEGIN:VEVENT
DTSTART;TZID=America/Toronto:20261023T130000
DTEND;TZID=America/Toronto:20261023T160000
DTSTAMP:20260425T115807
CREATED:20260112T141024Z
LAST-MODIFIED:20260112T181543Z
UID:10006070-1792760400-1792771200@www.cfiq.ca
SUMMARY:Cours d'informatique en ligne (Niveau Intermédiaire-Avancé)
DESCRIPTION:
URL:https://www.cfiq.ca/en/evenement/cours-dinformatique-en-ligne-niveau-intermediaire-avance-2/2026-10-23/
LOCATION:Online event
ORGANIZER;CN="Collectif - B%C3%A9langer":MAILTO:emploi@cfiq.ca
END:VEVENT
BEGIN:VEVENT
DTSTART;TZID=America/Toronto:20261030T090000
DTEND;TZID=America/Toronto:20261030T120000
DTSTAMP:20260425T115807
CREATED:20260109T143132Z
LAST-MODIFIED:20260112T183437Z
UID:10006123-1793350800-1793361600@www.cfiq.ca
SUMMARY:Cours d'informatique en ligne (niveau débutant)
DESCRIPTION:
URL:https://www.cfiq.ca/en/evenement/cours-dinformatique-en-ligne-niveau-debutant/2026-10-30/
LOCATION:Online event
ORGANIZER;CN="Collectif - B%C3%A9langer":MAILTO:emploi@cfiq.ca
END:VEVENT
BEGIN:VEVENT
DTSTART;TZID=America/Toronto:20261030T130000
DTEND;TZID=America/Toronto:20261030T160000
DTSTAMP:20260425T115807
CREATED:20260112T141024Z
LAST-MODIFIED:20260112T181543Z
UID:10006071-1793365200-1793376000@www.cfiq.ca
SUMMARY:Cours d'informatique en ligne (Niveau Intermédiaire-Avancé)
DESCRIPTION:
URL:https://www.cfiq.ca/en/evenement/cours-dinformatique-en-ligne-niveau-intermediaire-avance-2/2026-10-30/
LOCATION:Online event
ORGANIZER;CN="Collectif - B%C3%A9langer":MAILTO:emploi@cfiq.ca
END:VEVENT
BEGIN:VEVENT
DTSTART;TZID=America/Toronto:20261106T090000
DTEND;TZID=America/Toronto:20261106T120000
DTSTAMP:20260425T115807
CREATED:20260109T143132Z
LAST-MODIFIED:20260112T183437Z
UID:10006124-1793955600-1793966400@www.cfiq.ca
SUMMARY:Cours d'informatique en ligne (niveau débutant)
DESCRIPTION:
URL:https://www.cfiq.ca/en/evenement/cours-dinformatique-en-ligne-niveau-debutant/2026-11-06/
LOCATION:Online event
ORGANIZER;CN="Collectif - B%C3%A9langer":MAILTO:emploi@cfiq.ca
END:VEVENT
BEGIN:VEVENT
DTSTART;TZID=America/Toronto:20261106T130000
DTEND;TZID=America/Toronto:20261106T160000
DTSTAMP:20260425T115807
CREATED:20260112T141024Z
LAST-MODIFIED:20260112T181543Z
UID:10006072-1793970000-1793980800@www.cfiq.ca
SUMMARY:Cours d'informatique en ligne (Niveau Intermédiaire-Avancé)
DESCRIPTION:
URL:https://www.cfiq.ca/en/evenement/cours-dinformatique-en-ligne-niveau-intermediaire-avance-2/2026-11-06/
LOCATION:Online event
ORGANIZER;CN="Collectif - B%C3%A9langer":MAILTO:emploi@cfiq.ca
END:VEVENT
BEGIN:VEVENT
DTSTART;TZID=America/Toronto:20261113T090000
DTEND;TZID=America/Toronto:20261113T120000
DTSTAMP:20260425T115807
CREATED:20260109T143132Z
LAST-MODIFIED:20260112T183437Z
UID:10006125-1794560400-1794571200@www.cfiq.ca
SUMMARY:Cours d'informatique en ligne (niveau débutant)
DESCRIPTION:
URL:https://www.cfiq.ca/en/evenement/cours-dinformatique-en-ligne-niveau-debutant/2026-11-13/
LOCATION:Online event
ORGANIZER;CN="Collectif - B%C3%A9langer":MAILTO:emploi@cfiq.ca
END:VEVENT
BEGIN:VEVENT
DTSTART;TZID=America/Toronto:20261113T130000
DTEND;TZID=America/Toronto:20261113T160000
DTSTAMP:20260425T115807
CREATED:20260112T141024Z
LAST-MODIFIED:20260112T181543Z
UID:10006073-1794574800-1794585600@www.cfiq.ca
SUMMARY:Cours d'informatique en ligne (Niveau Intermédiaire-Avancé)
DESCRIPTION:
URL:https://www.cfiq.ca/en/evenement/cours-dinformatique-en-ligne-niveau-intermediaire-avance-2/2026-11-13/
LOCATION:Online event
ORGANIZER;CN="Collectif - B%C3%A9langer":MAILTO:emploi@cfiq.ca
END:VEVENT
BEGIN:VEVENT
DTSTART;TZID=America/Toronto:20261120T090000
DTEND;TZID=America/Toronto:20261120T120000
DTSTAMP:20260425T115807
CREATED:20260109T143132Z
LAST-MODIFIED:20260112T183437Z
UID:10006126-1795165200-1795176000@www.cfiq.ca
SUMMARY:Cours d'informatique en ligne (niveau débutant)
DESCRIPTION:
URL:https://www.cfiq.ca/en/evenement/cours-dinformatique-en-ligne-niveau-debutant/2026-11-20/
LOCATION:Online event
ORGANIZER;CN="Collectif - B%C3%A9langer":MAILTO:emploi@cfiq.ca
END:VEVENT
BEGIN:VEVENT
DTSTART;TZID=America/Toronto:20261120T130000
DTEND;TZID=America/Toronto:20261120T160000
DTSTAMP:20260425T115807
CREATED:20260112T141024Z
LAST-MODIFIED:20260112T181543Z
UID:10006074-1795179600-1795190400@www.cfiq.ca
SUMMARY:Cours d'informatique en ligne (Niveau Intermédiaire-Avancé)
DESCRIPTION:
URL:https://www.cfiq.ca/en/evenement/cours-dinformatique-en-ligne-niveau-intermediaire-avance-2/2026-11-20/
LOCATION:Online event
ORGANIZER;CN="Collectif - B%C3%A9langer":MAILTO:emploi@cfiq.ca
END:VEVENT
BEGIN:VEVENT
DTSTART;TZID=America/Toronto:20261127T090000
DTEND;TZID=America/Toronto:20261127T120000
DTSTAMP:20260425T115807
CREATED:20260109T143132Z
LAST-MODIFIED:20260112T183437Z
UID:10006127-1795770000-1795780800@www.cfiq.ca
SUMMARY:Cours d'informatique en ligne (niveau débutant)
DESCRIPTION:
URL:https://www.cfiq.ca/en/evenement/cours-dinformatique-en-ligne-niveau-debutant/2026-11-27/
LOCATION:Online event
ORGANIZER;CN="Collectif - B%C3%A9langer":MAILTO:emploi@cfiq.ca
END:VEVENT
BEGIN:VEVENT
DTSTART;TZID=America/Toronto:20261127T130000
DTEND;TZID=America/Toronto:20261127T160000
DTSTAMP:20260425T115807
CREATED:20260112T141024Z
LAST-MODIFIED:20260112T181543Z
UID:10006075-1795784400-1795795200@www.cfiq.ca
SUMMARY:Cours d'informatique en ligne (Niveau Intermédiaire-Avancé)
DESCRIPTION:
URL:https://www.cfiq.ca/en/evenement/cours-dinformatique-en-ligne-niveau-intermediaire-avance-2/2026-11-27/
LOCATION:Online event
ORGANIZER;CN="Collectif - B%C3%A9langer":MAILTO:emploi@cfiq.ca
END:VEVENT
BEGIN:VEVENT
DTSTART;TZID=America/Toronto:20261204T090000
DTEND;TZID=America/Toronto:20261204T120000
DTSTAMP:20260425T115807
CREATED:20260109T143132Z
LAST-MODIFIED:20260112T183437Z
UID:10006128-1796374800-1796385600@www.cfiq.ca
SUMMARY:Cours d'informatique en ligne (niveau débutant)
DESCRIPTION:
URL:https://www.cfiq.ca/en/evenement/cours-dinformatique-en-ligne-niveau-debutant/2026-12-04/
LOCATION:Online event
ORGANIZER;CN="Collectif - B%C3%A9langer":MAILTO:emploi@cfiq.ca
END:VEVENT
BEGIN:VEVENT
DTSTART;TZID=America/Toronto:20261204T130000
DTEND;TZID=America/Toronto:20261204T160000
DTSTAMP:20260425T115807
CREATED:20260112T141024Z
LAST-MODIFIED:20260112T181543Z
UID:10006076-1796389200-1796400000@www.cfiq.ca
SUMMARY:Cours d'informatique en ligne (Niveau Intermédiaire-Avancé)
DESCRIPTION:
URL:https://www.cfiq.ca/en/evenement/cours-dinformatique-en-ligne-niveau-intermediaire-avance-2/2026-12-04/
LOCATION:Online event
ORGANIZER;CN="Collectif - B%C3%A9langer":MAILTO:emploi@cfiq.ca
END:VEVENT
BEGIN:VEVENT
DTSTART;TZID=America/Toronto:20261211T090000
DTEND;TZID=America/Toronto:20261211T120000
DTSTAMP:20260425T115807
CREATED:20260109T143132Z
LAST-MODIFIED:20260112T183437Z
UID:10006129-1796979600-1796990400@www.cfiq.ca
SUMMARY:Cours d'informatique en ligne (niveau débutant)
DESCRIPTION:
URL:https://www.cfiq.ca/en/evenement/cours-dinformatique-en-ligne-niveau-debutant/2026-12-11/
LOCATION:Online event
ORGANIZER;CN="Collectif - B%C3%A9langer":MAILTO:emploi@cfiq.ca
END:VEVENT
BEGIN:VEVENT
DTSTART;TZID=America/Toronto:20261211T130000
DTEND;TZID=America/Toronto:20261211T160000
DTSTAMP:20260425T115807
CREATED:20260112T141024Z
LAST-MODIFIED:20260112T181543Z
UID:10006077-1796994000-1797004800@www.cfiq.ca
SUMMARY:Cours d'informatique en ligne (Niveau Intermédiaire-Avancé)
DESCRIPTION:
URL:https://www.cfiq.ca/en/evenement/cours-dinformatique-en-ligne-niveau-intermediaire-avance-2/2026-12-11/
LOCATION:Online event
ORGANIZER;CN="Collectif - B%C3%A9langer":MAILTO:emploi@cfiq.ca
END:VEVENT
BEGIN:VEVENT
DTSTART;TZID=America/Toronto:20261218T090000
DTEND;TZID=America/Toronto:20261218T120000
DTSTAMP:20260425T115807
CREATED:20260109T143132Z
LAST-MODIFIED:20260112T183437Z
UID:10006130-1797584400-1797595200@www.cfiq.ca
SUMMARY:Cours d'informatique en ligne (niveau débutant)
DESCRIPTION:
URL:https://www.cfiq.ca/en/evenement/cours-dinformatique-en-ligne-niveau-debutant/2026-12-18/
LOCATION:Online event
ORGANIZER;CN="Collectif - B%C3%A9langer":MAILTO:emploi@cfiq.ca
END:VEVENT
BEGIN:VEVENT
DTSTART;TZID=America/Toronto:20261218T130000
DTEND;TZID=America/Toronto:20261218T160000
DTSTAMP:20260425T115807
CREATED:20260112T141024Z
LAST-MODIFIED:20260112T181543Z
UID:10006078-1797598800-1797609600@www.cfiq.ca
SUMMARY:Cours d'informatique en ligne (Niveau Intermédiaire-Avancé)
DESCRIPTION:
URL:https://www.cfiq.ca/en/evenement/cours-dinformatique-en-ligne-niveau-intermediaire-avance-2/2026-12-18/
LOCATION:Online event
ORGANIZER;CN="Collectif - B%C3%A9langer":MAILTO:emploi@cfiq.ca
END:VEVENT
BEGIN:VEVENT
DTSTART;TZID=America/Toronto:20261225T090000
DTEND;TZID=America/Toronto:20261225T120000
DTSTAMP:20260425T115807
CREATED:20260109T143132Z
LAST-MODIFIED:20260112T183437Z
UID:10006131-1798189200-1798200000@www.cfiq.ca
SUMMARY:Cours d'informatique en ligne (niveau débutant)
DESCRIPTION:
URL:https://www.cfiq.ca/en/evenement/cours-dinformatique-en-ligne-niveau-debutant/2026-12-25/
LOCATION:Online event
ORGANIZER;CN="Collectif - B%C3%A9langer":MAILTO:emploi@cfiq.ca
END:VEVENT
BEGIN:VEVENT
DTSTART;TZID=America/Toronto:20261225T130000
DTEND;TZID=America/Toronto:20261225T160000
DTSTAMP:20260425T115807
CREATED:20260112T141024Z
LAST-MODIFIED:20260112T181543Z
UID:10006079-1798203600-1798214400@www.cfiq.ca
SUMMARY:Cours d'informatique en ligne (Niveau Intermédiaire-Avancé)
DESCRIPTION:
URL:https://www.cfiq.ca/en/evenement/cours-dinformatique-en-ligne-niveau-intermediaire-avance-2/2026-12-25/
LOCATION:Online event
ORGANIZER;CN="Collectif - B%C3%A9langer":MAILTO:emploi@cfiq.ca
END:VEVENT
BEGIN:VEVENT
DTSTART;TZID=America/Toronto:20270101T090000
DTEND;TZID=America/Toronto:20270101T120000
DTSTAMP:20260425T115807
CREATED:20260109T143132Z
LAST-MODIFIED:20260112T183437Z
UID:10006132-1798794000-1798804800@www.cfiq.ca
SUMMARY:Cours d'informatique en ligne (niveau débutant)
DESCRIPTION:
URL:https://www.cfiq.ca/en/evenement/cours-dinformatique-en-ligne-niveau-debutant/2027-01-01/
LOCATION:Online event
ORGANIZER;CN="Collectif - B%C3%A9langer":MAILTO:emploi@cfiq.ca
END:VEVENT
BEGIN:VEVENT
DTSTART;TZID=America/Toronto:20270101T130000
DTEND;TZID=America/Toronto:20270101T160000
DTSTAMP:20260425T115807
CREATED:20260112T141024Z
LAST-MODIFIED:20260112T181543Z
UID:10006080-1798808400-1798819200@www.cfiq.ca
SUMMARY:Cours d'informatique en ligne (Niveau Intermédiaire-Avancé)
DESCRIPTION:
URL:https://www.cfiq.ca/en/evenement/cours-dinformatique-en-ligne-niveau-intermediaire-avance-2/2027-01-01/
LOCATION:Online event
ORGANIZER;CN="Collectif - B%C3%A9langer":MAILTO:emploi@cfiq.ca
END:VEVENT
BEGIN:VEVENT
DTSTART;TZID=America/Toronto:20270108T090000
DTEND;TZID=America/Toronto:20270108T120000
DTSTAMP:20260425T115807
CREATED:20260109T143132Z
LAST-MODIFIED:20260112T183437Z
UID:10006133-1799398800-1799409600@www.cfiq.ca
SUMMARY:Cours d'informatique en ligne (niveau débutant)
DESCRIPTION:
URL:https://www.cfiq.ca/en/evenement/cours-dinformatique-en-ligne-niveau-debutant/2027-01-08/
LOCATION:Online event
ORGANIZER;CN="Collectif - B%C3%A9langer":MAILTO:emploi@cfiq.ca
END:VEVENT
BEGIN:VEVENT
DTSTART;TZID=America/Toronto:20270108T130000
DTEND;TZID=America/Toronto:20270108T160000
DTSTAMP:20260425T115807
CREATED:20260112T141024Z
LAST-MODIFIED:20260112T181543Z
UID:10006081-1799413200-1799424000@www.cfiq.ca
SUMMARY:Cours d'informatique en ligne (Niveau Intermédiaire-Avancé)
DESCRIPTION:
URL:https://www.cfiq.ca/en/evenement/cours-dinformatique-en-ligne-niveau-intermediaire-avance-2/2027-01-08/
LOCATION:Online event
ORGANIZER;CN="Collectif - B%C3%A9langer":MAILTO:emploi@cfiq.ca
END:VEVENT
BEGIN:VEVENT
DTSTART;TZID=America/Toronto:20270115T090000
DTEND;TZID=America/Toronto:20270115T120000
DTSTAMP:20260425T115807
CREATED:20260109T143132Z
LAST-MODIFIED:20260112T183437Z
UID:10006134-1800003600-1800014400@www.cfiq.ca
SUMMARY:Cours d'informatique en ligne (niveau débutant)
DESCRIPTION:
URL:https://www.cfiq.ca/en/evenement/cours-dinformatique-en-ligne-niveau-debutant/2027-01-15/
LOCATION:Online event
ORGANIZER;CN="Collectif - B%C3%A9langer":MAILTO:emploi@cfiq.ca
END:VEVENT
BEGIN:VEVENT
DTSTART;TZID=America/Toronto:20270115T130000
DTEND;TZID=America/Toronto:20270115T160000
DTSTAMP:20260425T115807
CREATED:20260112T141024Z
LAST-MODIFIED:20260112T181543Z
UID:10006082-1800018000-1800028800@www.cfiq.ca
SUMMARY:Cours d'informatique en ligne (Niveau Intermédiaire-Avancé)
DESCRIPTION:
URL:https://www.cfiq.ca/en/evenement/cours-dinformatique-en-ligne-niveau-intermediaire-avance-2/2027-01-15/
LOCATION:Online event
ORGANIZER;CN="Collectif - B%C3%A9langer":MAILTO:emploi@cfiq.ca
END:VEVENT
END:VCALENDAR