BEGIN:VCALENDAR
VERSION:2.0
PRODID:-//Collectif - ECPv6.15.12.2//NONSGML v1.0//EN
CALSCALE:GREGORIAN
METHOD:PUBLISH
X-WR-CALNAME:Collectif
X-ORIGINAL-URL:https://www.cfiq.ca/es/
X-WR-CALDESC:Eventos para Collectif
REFRESH-INTERVAL;VALUE=DURATION:PT1H
X-Robots-Tag:noindex
X-PUBLISHED-TTL:PT1H
BEGIN:VTIMEZONE
TZID:America/Toronto
BEGIN:DAYLIGHT
TZOFFSETFROM:-0500
TZOFFSETTO:-0400
TZNAME:EDT
DTSTART:20250309T070000
END:DAYLIGHT
BEGIN:STANDARD
TZOFFSETFROM:-0400
TZOFFSETTO:-0500
TZNAME:EST
DTSTART:20251102T060000
END:STANDARD
BEGIN:DAYLIGHT
TZOFFSETFROM:-0500
TZOFFSETTO:-0400
TZNAME:EDT
DTSTART:20260308T070000
END:DAYLIGHT
BEGIN:STANDARD
TZOFFSETFROM:-0400
TZOFFSETTO:-0500
TZNAME:EST
DTSTART:20261101T060000
END:STANDARD
BEGIN:DAYLIGHT
TZOFFSETFROM:-0500
TZOFFSETTO:-0400
TZNAME:EDT
DTSTART:20270314T070000
END:DAYLIGHT
BEGIN:STANDARD
TZOFFSETFROM:-0400
TZOFFSETTO:-0500
TZNAME:EST
DTSTART:20271107T060000
END:STANDARD
END:VTIMEZONE
BEGIN:VEVENT
DTSTART;TZID=America/Toronto:20260427T090000
DTEND;TZID=America/Toronto:20260427T120000
DTSTAMP:20260425T065818
CREATED:20260112T182734Z
LAST-MODIFIED:20260112T183242Z
UID:10006150-1777280400-1777291200@www.cfiq.ca
SUMMARY:Cours d'informatique - Word (débutant)
DESCRIPTION:
URL:https://www.cfiq.ca/es/evenement/cours-dinformatique-word-debutant/2026-04-27/
LOCATION:Québec
END:VEVENT
BEGIN:VEVENT
DTSTART;TZID=America/Toronto:20260427T130000
DTEND;TZID=America/Toronto:20260427T160000
DTSTAMP:20260425T065818
CREATED:20260112T193458Z
LAST-MODIFIED:20260112T193640Z
UID:10006722-1777294800-1777305600@www.cfiq.ca
SUMMARY:Cours d'informatique Word (Niveau Intermédiaire-Avancé)
DESCRIPTION:
URL:https://www.cfiq.ca/es/evenement/cours-dinformatique-word-niveau-intermediaire-avance-2/2026-04-27/
LOCATION:Collectif – Bélanger\, 4155\, rue Bélanger Est\, Montréal\, Québec\, H1T 1A2\, Canada
ORGANIZER;CN="Collectif - B%C3%A9langer":MAILTO:emploi@cfiq.ca
END:VEVENT
BEGIN:VEVENT
DTSTART;TZID=America/Toronto:20260428T090000
DTEND;TZID=America/Toronto:20260428T120000
DTSTAMP:20260425T065818
CREATED:20250313T144300Z
LAST-MODIFIED:20250313T144300Z
UID:10003887-1777366800-1777377600@www.cfiq.ca
SUMMARY:Atelier de perfectionnement de Français
DESCRIPTION:Cet atelier s’adresse aux personnes ayant un niveau intermédiaire de maitrise de la langue française. \nActivités orales: \n\nComment affiner son français?\nComment mettre en valeur ses compétences?\n\nActivités écrites: \n\nCompréhension\nRédaction\nRévision des règles de grammaire et d’orthographe
URL:https://www.cfiq.ca/es/evenement/atelier-de-perfectionnement-de-francais-2/2026-04-28/
LOCATION:Hybride Bélanger (en ligne et présentiel)\, 4155 Rue Bélanger\, Montréal\, Québec\, H1T 1A2\, Canada
CATEGORIES:Recherche d’emploi Montréal
ATTACH;FMTTYPE=image/png:https://www.cfiq.ca/wp-content/uploads/2021/03/Copie-de-Images-ateliers-2.png
END:VEVENT
BEGIN:VEVENT
DTSTART;TZID=America/Toronto:20260428T090000
DTEND;TZID=America/Toronto:20260428T120000
DTSTAMP:20260425T065818
CREATED:20260112T191500Z
LAST-MODIFIED:20260112T191658Z
UID:10006566-1777366800-1777377600@www.cfiq.ca
SUMMARY:Cours d'informatique Excel (niveau débutant)
DESCRIPTION:
URL:https://www.cfiq.ca/es/evenement/cours-dinformatique-excel-niveau-debutant-2/2026-04-28/
LOCATION:Collectif – Bélanger\, 4155\, rue Bélanger Est\, Montréal\, Québec\, H1T 1A2\, Canada
ORGANIZER;CN="Collectif - B%C3%A9langer":MAILTO:emploi@cfiq.ca
END:VEVENT
BEGIN:VEVENT
DTSTART;TZID=America/Toronto:20260428T090000
DTEND;TZID=America/Toronto:20260428T120000
DTSTAMP:20260425T065818
CREATED:20260112T191901Z
LAST-MODIFIED:20260112T192031Z
UID:10006618-1777366800-1777377600@www.cfiq.ca
SUMMARY:Cours d'informatique Excel (niveau débutant)
DESCRIPTION:
URL:https://www.cfiq.ca/es/evenement/cours-dinformatique-excel-niveau-debutant-3/2026-04-28/
LOCATION:Collectif – Bélanger\, 4155\, rue Bélanger Est\, Montréal\, Québec\, H1T 1A2\, Canada
ORGANIZER;CN="Collectif - B%C3%A9langer":MAILTO:emploi@cfiq.ca
END:VEVENT
BEGIN:VEVENT
DTSTART;TZID=America/Toronto:20260428T090000
DTEND;TZID=America/Toronto:20260428T120000
DTSTAMP:20260425T065818
CREATED:20260112T192938Z
LAST-MODIFIED:20260112T193133Z
UID:10006670-1777366800-1777377600@www.cfiq.ca
SUMMARY:Cours d'informatique Excel (niveau débutant)
DESCRIPTION:
URL:https://www.cfiq.ca/es/evenement/cours-dinformatique-excel-niveau-debutant-4/2026-04-28/
LOCATION:Collectif – Bélanger\, 4155\, rue Bélanger Est\, Montréal\, Québec\, H1T 1A2\, Canada
ORGANIZER;CN="Collectif - B%C3%A9langer":MAILTO:emploi@cfiq.ca
END:VEVENT
BEGIN:VEVENT
DTSTART;TZID=America/Toronto:20260428T130000
DTEND;TZID=America/Toronto:20260428T160000
DTSTAMP:20260425T065818
CREATED:20260109T223143Z
LAST-MODIFIED:20260112T184640Z
UID:10006358-1777381200-1777392000@www.cfiq.ca
SUMMARY:Cours d'informatique Excel (Niveau Intermédiaire-Avancé)
DESCRIPTION:
URL:https://www.cfiq.ca/es/evenement/cours-dinformatique-excel-niveau-intermediaire-avance-2/2026-04-28/
LOCATION:Collectif – Bélanger\, 4155\, rue Bélanger Est\, Montréal\, Québec\, H1T 1A2\, Canada
ORGANIZER;CN="Collectif - B%C3%A9langer":MAILTO:emploi@cfiq.ca
END:VEVENT
BEGIN:VEVENT
DTSTART;TZID=America/Toronto:20260429T090000
DTEND;TZID=America/Toronto:20260429T120000
DTSTAMP:20260425T065818
CREATED:20260109T152941Z
LAST-MODIFIED:20260112T190651Z
UID:10006514-1777453200-1777464000@www.cfiq.ca
SUMMARY:Cours d'informatique Outlook (niveau débutant)
DESCRIPTION:
URL:https://www.cfiq.ca/es/evenement/cours-dinformatique-outlook-niveau-debutant-2/2026-04-29/
LOCATION:Collectif – Bélanger\, 4155\, rue Bélanger Est\, Montréal\, Québec\, H1T 1A2\, Canada
ORGANIZER;CN="Collectif - B%C3%A9langer":MAILTO:emploi@cfiq.ca
END:VEVENT
BEGIN:VEVENT
DTSTART;TZID=America/Toronto:20260429T090000
DTEND;TZID=America/Toronto:20260429T120000
DTSTAMP:20260425T065818
CREATED:20260109T222845Z
LAST-MODIFIED:20260112T194809Z
UID:10006774-1777453200-1777464000@www.cfiq.ca
SUMMARY:Atelier de conversation en anglais (niveau débutant)
DESCRIPTION:
URL:https://www.cfiq.ca/es/evenement/atelier-de-conversation-en-anglais-niveau-debutant-2/2026-04-29/
LOCATION:Hybride Bélanger (en ligne et présentiel)\, 4155 Rue Bélanger\, Montréal\, Québec\, H1T 1A2\, Canada
ORGANIZER;CN="Collectif - B%C3%A9langer":MAILTO:emploi@cfiq.ca
END:VEVENT
BEGIN:VEVENT
DTSTART;TZID=America/Toronto:20260429T100000
DTEND;TZID=America/Toronto:20260429T120000
DTSTAMP:20260425T065818
CREATED:20260213T141653Z
LAST-MODIFIED:20260213T141653Z
UID:10006820-1777456800-1777464000@www.cfiq.ca
SUMMARY:Activités pour les femmes
DESCRIPTION:Thème : « ENVIRONNEMENT ET SANTÉ MENTALE»  avec le CIUSSS de l’Est de l’Ile de Montréal\, Melina Liberge
URL:https://www.cfiq.ca/es/evenement/activites-pour-les-femmes-5/
LOCATION:Collectif – Bélanger\, 4155\, rue Bélanger Est\, Montréal\, Québec\, H1T 1A2\, Canada
ORGANIZER;CN="Collectif - B%C3%A9langer":MAILTO:emploi@cfiq.ca
END:VEVENT
BEGIN:VEVENT
DTSTART;TZID=America/Toronto:20260429T130000
DTEND;TZID=America/Toronto:20260429T160000
DTSTAMP:20260425T065818
CREATED:20260109T222211Z
LAST-MODIFIED:20260112T184326Z
UID:10006306-1777467600-1777478400@www.cfiq.ca
SUMMARY:Cours d'informatique Outlook(Niveau Intermédiaire-Avancé)
DESCRIPTION:
URL:https://www.cfiq.ca/es/evenement/cours-dinformatique-outlookniveau-intermediaire-avance-2/2026-04-29/
LOCATION:Collectif – Bélanger\, 4155\, rue Bélanger Est\, Montréal\, Québec\, H1T 1A2\, Canada
ORGANIZER;CN="Collectif - B%C3%A9langer":MAILTO:emploi@cfiq.ca
END:VEVENT
BEGIN:VEVENT
DTSTART;TZID=America/Toronto:20260430T090000
DTEND;TZID=America/Toronto:20260430T120000
DTSTAMP:20260425T065818
CREATED:20260109T144543Z
LAST-MODIFIED:20260112T184116Z
UID:10006254-1777539600-1777550400@www.cfiq.ca
SUMMARY:Atelier de conversation en anglais (niveau intermédiaire)
DESCRIPTION:
URL:https://www.cfiq.ca/es/evenement/atelier-de-conversation-en-anglais-niveau-intermediaire/2026-04-30/
LOCATION:Hybride Bélanger (en ligne et présentiel)\, 4155 Rue Bélanger\, Montréal\, Québec\, H1T 1A2\, Canada
ORGANIZER;CN="Collectif - B%C3%A9langer":MAILTO:emploi@cfiq.ca
END:VEVENT
BEGIN:VEVENT
DTSTART;TZID=America/Toronto:20260430T090000
DTEND;TZID=America/Toronto:20260430T120000
DTSTAMP:20260425T065818
CREATED:20260109T221626Z
LAST-MODIFIED:20260112T190357Z
UID:10006462-1777539600-1777550400@www.cfiq.ca
SUMMARY:Cours d'informatique Powerpoint (niveau Débutant)
DESCRIPTION:
URL:https://www.cfiq.ca/es/evenement/cours-dinformatique-sur-powerpoint-niveau-debutant-2/2026-04-30/
LOCATION:Collectif – Bélanger\, 4155\, rue Bélanger Est\, Montréal\, Québec\, H1T 1A2\, Canada
ORGANIZER;CN="Collectif - B%C3%A9langer":MAILTO:emploi@cfiq.ca
END:VEVENT
BEGIN:VEVENT
DTSTART;TZID=America/Toronto:20260430T130000
DTEND;TZID=America/Toronto:20260430T160000
DTSTAMP:20260425T065818
CREATED:20260109T143521Z
LAST-MODIFIED:20260112T183911Z
UID:10006202-1777554000-1777564800@www.cfiq.ca
SUMMARY:Cours d'informatique Powerpoint (Niveau Intermédiaire-Avancé)
DESCRIPTION:
URL:https://www.cfiq.ca/es/evenement/cours-dinformatique-powerpoint-niveau-intermediaire-avance/2026-04-30/
LOCATION:Collectif – Bélanger\, 4155\, rue Bélanger Est\, Montréal\, Québec\, H1T 1A2\, Canada
ORGANIZER;CN="Collectif - B%C3%A9langer":MAILTO:emploi@cfiq.ca
END:VEVENT
END:VCALENDAR