BEGIN:VCALENDAR
VERSION:2.0
PRODID:-//Collectif - ECPv6.15.12.2//NONSGML v1.0//EN
CALSCALE:GREGORIAN
METHOD:PUBLISH
X-ORIGINAL-URL:https://www.cfiq.ca
X-WR-CALDESC:Évènements pour Collectif
REFRESH-INTERVAL;VALUE=DURATION:PT1H
X-Robots-Tag:noindex
X-PUBLISHED-TTL:PT1H
BEGIN:VTIMEZONE
TZID:America/Toronto
BEGIN:DAYLIGHT
TZOFFSETFROM:-0500
TZOFFSETTO:-0400
TZNAME:EDT
DTSTART:20250309T070000
END:DAYLIGHT
BEGIN:STANDARD
TZOFFSETFROM:-0400
TZOFFSETTO:-0500
TZNAME:EST
DTSTART:20251102T060000
END:STANDARD
BEGIN:DAYLIGHT
TZOFFSETFROM:-0500
TZOFFSETTO:-0400
TZNAME:EDT
DTSTART:20260308T070000
END:DAYLIGHT
BEGIN:STANDARD
TZOFFSETFROM:-0400
TZOFFSETTO:-0500
TZNAME:EST
DTSTART:20261101T060000
END:STANDARD
BEGIN:DAYLIGHT
TZOFFSETFROM:-0500
TZOFFSETTO:-0400
TZNAME:EDT
DTSTART:20270314T070000
END:DAYLIGHT
BEGIN:STANDARD
TZOFFSETFROM:-0400
TZOFFSETTO:-0500
TZNAME:EST
DTSTART:20271107T060000
END:STANDARD
END:VTIMEZONE
BEGIN:VEVENT
DTSTART;TZID=America/Toronto:20260311T100000
DTEND;TZID=America/Toronto:20260311T120000
DTSTAMP:20260424T052428
CREATED:20260213T140404Z
LAST-MODIFIED:20260213T140404Z
UID:10006817-1773223200-1773230400@www.cfiq.ca
SUMMARY:Activités pour les femmes
DESCRIPTION:Thème : « TRAVAILLER AU QUÉBEC » vos droits expliqués avec Sylvie Champagne\, Éducaloi
URL:https://www.cfiq.ca/evenement/activites-pour-les-femmes-2/
LOCATION:Collectif – Bélanger\, 4155\, rue Bélanger Est\, Montréal\, Québec\, H1T 1A2\, Canada
CATEGORIES:Centre de femmes
ORGANIZER;CN="Collectif - B%C3%A9langer":MAILTO:emploi@cfiq.ca
END:VEVENT
BEGIN:VEVENT
DTSTART;TZID=America/Toronto:20260325T100000
DTEND;TZID=America/Toronto:20260325T120000
DTSTAMP:20260424T052428
CREATED:20260213T140909Z
LAST-MODIFIED:20260213T140909Z
UID:10006818-1774432800-1774440000@www.cfiq.ca
SUMMARY:Activités pour les femmes
DESCRIPTION:Thème : « LES ÉMOTIONS » avec le CIUSSS de l’Est de l’Ile de Montréal\, Melina Liberge
URL:https://www.cfiq.ca/evenement/activites-pour-les-femmes-3/
LOCATION:Collectif – Bélanger\, 4155\, rue Bélanger Est\, Montréal\, Québec\, H1T 1A2\, Canada
CATEGORIES:Centre de femmes
ORGANIZER;CN="Collectif - B%C3%A9langer":MAILTO:emploi@cfiq.ca
END:VEVENT
END:VCALENDAR