BEGIN:VCALENDAR
VERSION:2.0
PRODID:-//Collectif - ECPv6.15.12.2//NONSGML v1.0//EN
CALSCALE:GREGORIAN
METHOD:PUBLISH
X-ORIGINAL-URL:https://www.cfiq.ca
X-WR-CALDESC:Évènements pour Collectif
REFRESH-INTERVAL;VALUE=DURATION:PT1H
X-Robots-Tag:noindex
X-PUBLISHED-TTL:PT1H
BEGIN:VTIMEZONE
TZID:America/Toronto
BEGIN:DAYLIGHT
TZOFFSETFROM:-0500
TZOFFSETTO:-0400
TZNAME:EDT
DTSTART:20250309T070000
END:DAYLIGHT
BEGIN:STANDARD
TZOFFSETFROM:-0400
TZOFFSETTO:-0500
TZNAME:EST
DTSTART:20251102T060000
END:STANDARD
BEGIN:DAYLIGHT
TZOFFSETFROM:-0500
TZOFFSETTO:-0400
TZNAME:EDT
DTSTART:20260308T070000
END:DAYLIGHT
BEGIN:STANDARD
TZOFFSETFROM:-0400
TZOFFSETTO:-0500
TZNAME:EST
DTSTART:20261101T060000
END:STANDARD
BEGIN:DAYLIGHT
TZOFFSETFROM:-0500
TZOFFSETTO:-0400
TZNAME:EDT
DTSTART:20270314T070000
END:DAYLIGHT
BEGIN:STANDARD
TZOFFSETFROM:-0400
TZOFFSETTO:-0500
TZNAME:EST
DTSTART:20271107T060000
END:STANDARD
END:VTIMEZONE
BEGIN:VEVENT
DTSTART;TZID=America/Toronto:20260501T090000
DTEND;TZID=America/Toronto:20260501T120000
DTSTAMP:20260425T090204
CREATED:20260109T143132Z
LAST-MODIFIED:20260112T183437Z
UID:10006097-1777626000-1777636800@www.cfiq.ca
SUMMARY:Cours d'informatique en ligne (niveau débutant)
DESCRIPTION:
URL:https://www.cfiq.ca/evenement/cours-dinformatique-en-ligne-niveau-debutant/2026-05-01/
LOCATION:Événement en ligne
CATEGORIES:Formations d’appoint
ORGANIZER;CN="Collectif - B%C3%A9langer":MAILTO:emploi@cfiq.ca
END:VEVENT
BEGIN:VEVENT
DTSTART;TZID=America/Toronto:20260501T130000
DTEND;TZID=America/Toronto:20260501T160000
DTSTAMP:20260425T090204
CREATED:20260112T141024Z
LAST-MODIFIED:20260112T181543Z
UID:10006045-1777640400-1777651200@www.cfiq.ca
SUMMARY:Cours d'informatique en ligne (Niveau Intermédiaire-Avancé)
DESCRIPTION:
URL:https://www.cfiq.ca/evenement/cours-dinformatique-en-ligne-niveau-intermediaire-avance-2/2026-05-01/
LOCATION:Événement en ligne
CATEGORIES:Formations d’appoint
ORGANIZER;CN="Collectif - B%C3%A9langer":MAILTO:emploi@cfiq.ca
END:VEVENT
BEGIN:VEVENT
DTSTART;TZID=America/Toronto:20260508T090000
DTEND;TZID=America/Toronto:20260508T120000
DTSTAMP:20260425T090204
CREATED:20260109T143132Z
LAST-MODIFIED:20260112T183437Z
UID:10006098-1778230800-1778241600@www.cfiq.ca
SUMMARY:Cours d'informatique en ligne (niveau débutant)
DESCRIPTION:
URL:https://www.cfiq.ca/evenement/cours-dinformatique-en-ligne-niveau-debutant/2026-05-08/
LOCATION:Événement en ligne
CATEGORIES:Formations d’appoint
ORGANIZER;CN="Collectif - B%C3%A9langer":MAILTO:emploi@cfiq.ca
END:VEVENT
BEGIN:VEVENT
DTSTART;TZID=America/Toronto:20260508T130000
DTEND;TZID=America/Toronto:20260508T160000
DTSTAMP:20260425T090204
CREATED:20260112T141024Z
LAST-MODIFIED:20260112T181543Z
UID:10006046-1778245200-1778256000@www.cfiq.ca
SUMMARY:Cours d'informatique en ligne (Niveau Intermédiaire-Avancé)
DESCRIPTION:
URL:https://www.cfiq.ca/evenement/cours-dinformatique-en-ligne-niveau-intermediaire-avance-2/2026-05-08/
LOCATION:Événement en ligne
CATEGORIES:Formations d’appoint
ORGANIZER;CN="Collectif - B%C3%A9langer":MAILTO:emploi@cfiq.ca
END:VEVENT
BEGIN:VEVENT
DTSTART;TZID=America/Toronto:20260515T090000
DTEND;TZID=America/Toronto:20260515T120000
DTSTAMP:20260425T090204
CREATED:20260109T143132Z
LAST-MODIFIED:20260112T183437Z
UID:10006099-1778835600-1778846400@www.cfiq.ca
SUMMARY:Cours d'informatique en ligne (niveau débutant)
DESCRIPTION:
URL:https://www.cfiq.ca/evenement/cours-dinformatique-en-ligne-niveau-debutant/2026-05-15/
LOCATION:Événement en ligne
CATEGORIES:Formations d’appoint
ORGANIZER;CN="Collectif - B%C3%A9langer":MAILTO:emploi@cfiq.ca
END:VEVENT
BEGIN:VEVENT
DTSTART;TZID=America/Toronto:20260515T130000
DTEND;TZID=America/Toronto:20260515T160000
DTSTAMP:20260425T090204
CREATED:20260112T141024Z
LAST-MODIFIED:20260112T181543Z
UID:10006047-1778850000-1778860800@www.cfiq.ca
SUMMARY:Cours d'informatique en ligne (Niveau Intermédiaire-Avancé)
DESCRIPTION:
URL:https://www.cfiq.ca/evenement/cours-dinformatique-en-ligne-niveau-intermediaire-avance-2/2026-05-15/
LOCATION:Événement en ligne
CATEGORIES:Formations d’appoint
ORGANIZER;CN="Collectif - B%C3%A9langer":MAILTO:emploi@cfiq.ca
END:VEVENT
BEGIN:VEVENT
DTSTART;TZID=America/Toronto:20260522T090000
DTEND;TZID=America/Toronto:20260522T120000
DTSTAMP:20260425T090204
CREATED:20260109T143132Z
LAST-MODIFIED:20260112T183437Z
UID:10006100-1779440400-1779451200@www.cfiq.ca
SUMMARY:Cours d'informatique en ligne (niveau débutant)
DESCRIPTION:
URL:https://www.cfiq.ca/evenement/cours-dinformatique-en-ligne-niveau-debutant/2026-05-22/
LOCATION:Événement en ligne
CATEGORIES:Formations d’appoint
ORGANIZER;CN="Collectif - B%C3%A9langer":MAILTO:emploi@cfiq.ca
END:VEVENT
BEGIN:VEVENT
DTSTART;TZID=America/Toronto:20260522T130000
DTEND;TZID=America/Toronto:20260522T160000
DTSTAMP:20260425T090204
CREATED:20260112T141024Z
LAST-MODIFIED:20260112T181543Z
UID:10006048-1779454800-1779465600@www.cfiq.ca
SUMMARY:Cours d'informatique en ligne (Niveau Intermédiaire-Avancé)
DESCRIPTION:
URL:https://www.cfiq.ca/evenement/cours-dinformatique-en-ligne-niveau-intermediaire-avance-2/2026-05-22/
LOCATION:Événement en ligne
CATEGORIES:Formations d’appoint
ORGANIZER;CN="Collectif - B%C3%A9langer":MAILTO:emploi@cfiq.ca
END:VEVENT
BEGIN:VEVENT
DTSTART;TZID=America/Toronto:20260529T090000
DTEND;TZID=America/Toronto:20260529T120000
DTSTAMP:20260425T090204
CREATED:20260109T143132Z
LAST-MODIFIED:20260112T183437Z
UID:10006101-1780045200-1780056000@www.cfiq.ca
SUMMARY:Cours d'informatique en ligne (niveau débutant)
DESCRIPTION:
URL:https://www.cfiq.ca/evenement/cours-dinformatique-en-ligne-niveau-debutant/2026-05-29/
LOCATION:Événement en ligne
CATEGORIES:Formations d’appoint
ORGANIZER;CN="Collectif - B%C3%A9langer":MAILTO:emploi@cfiq.ca
END:VEVENT
BEGIN:VEVENT
DTSTART;TZID=America/Toronto:20260529T130000
DTEND;TZID=America/Toronto:20260529T160000
DTSTAMP:20260425T090204
CREATED:20260112T141024Z
LAST-MODIFIED:20260112T181543Z
UID:10006049-1780059600-1780070400@www.cfiq.ca
SUMMARY:Cours d'informatique en ligne (Niveau Intermédiaire-Avancé)
DESCRIPTION:
URL:https://www.cfiq.ca/evenement/cours-dinformatique-en-ligne-niveau-intermediaire-avance-2/2026-05-29/
LOCATION:Événement en ligne
CATEGORIES:Formations d’appoint
ORGANIZER;CN="Collectif - B%C3%A9langer":MAILTO:emploi@cfiq.ca
END:VEVENT
BEGIN:VEVENT
DTSTART;TZID=America/Toronto:20260605T090000
DTEND;TZID=America/Toronto:20260605T120000
DTSTAMP:20260425T090204
CREATED:20260109T143132Z
LAST-MODIFIED:20260112T183437Z
UID:10006102-1780650000-1780660800@www.cfiq.ca
SUMMARY:Cours d'informatique en ligne (niveau débutant)
DESCRIPTION:
URL:https://www.cfiq.ca/evenement/cours-dinformatique-en-ligne-niveau-debutant/2026-06-05/
LOCATION:Événement en ligne
CATEGORIES:Formations d’appoint
ORGANIZER;CN="Collectif - B%C3%A9langer":MAILTO:emploi@cfiq.ca
END:VEVENT
BEGIN:VEVENT
DTSTART;TZID=America/Toronto:20260605T130000
DTEND;TZID=America/Toronto:20260605T160000
DTSTAMP:20260425T090204
CREATED:20260112T141024Z
LAST-MODIFIED:20260112T181543Z
UID:10006050-1780664400-1780675200@www.cfiq.ca
SUMMARY:Cours d'informatique en ligne (Niveau Intermédiaire-Avancé)
DESCRIPTION:
URL:https://www.cfiq.ca/evenement/cours-dinformatique-en-ligne-niveau-intermediaire-avance-2/2026-06-05/
LOCATION:Événement en ligne
CATEGORIES:Formations d’appoint
ORGANIZER;CN="Collectif - B%C3%A9langer":MAILTO:emploi@cfiq.ca
END:VEVENT
BEGIN:VEVENT
DTSTART;TZID=America/Toronto:20260612T090000
DTEND;TZID=America/Toronto:20260612T120000
DTSTAMP:20260425T090204
CREATED:20260109T143132Z
LAST-MODIFIED:20260112T183437Z
UID:10006103-1781254800-1781265600@www.cfiq.ca
SUMMARY:Cours d'informatique en ligne (niveau débutant)
DESCRIPTION:
URL:https://www.cfiq.ca/evenement/cours-dinformatique-en-ligne-niveau-debutant/2026-06-12/
LOCATION:Événement en ligne
CATEGORIES:Formations d’appoint
ORGANIZER;CN="Collectif - B%C3%A9langer":MAILTO:emploi@cfiq.ca
END:VEVENT
BEGIN:VEVENT
DTSTART;TZID=America/Toronto:20260612T130000
DTEND;TZID=America/Toronto:20260612T160000
DTSTAMP:20260425T090204
CREATED:20260112T141024Z
LAST-MODIFIED:20260112T181543Z
UID:10006051-1781269200-1781280000@www.cfiq.ca
SUMMARY:Cours d'informatique en ligne (Niveau Intermédiaire-Avancé)
DESCRIPTION:
URL:https://www.cfiq.ca/evenement/cours-dinformatique-en-ligne-niveau-intermediaire-avance-2/2026-06-12/
LOCATION:Événement en ligne
CATEGORIES:Formations d’appoint
ORGANIZER;CN="Collectif - B%C3%A9langer":MAILTO:emploi@cfiq.ca
END:VEVENT
BEGIN:VEVENT
DTSTART;TZID=America/Toronto:20260619T090000
DTEND;TZID=America/Toronto:20260619T120000
DTSTAMP:20260425T090204
CREATED:20260109T143132Z
LAST-MODIFIED:20260112T183437Z
UID:10006104-1781859600-1781870400@www.cfiq.ca
SUMMARY:Cours d'informatique en ligne (niveau débutant)
DESCRIPTION:
URL:https://www.cfiq.ca/evenement/cours-dinformatique-en-ligne-niveau-debutant/2026-06-19/
LOCATION:Événement en ligne
CATEGORIES:Formations d’appoint
ORGANIZER;CN="Collectif - B%C3%A9langer":MAILTO:emploi@cfiq.ca
END:VEVENT
BEGIN:VEVENT
DTSTART;TZID=America/Toronto:20260619T130000
DTEND;TZID=America/Toronto:20260619T160000
DTSTAMP:20260425T090204
CREATED:20260112T141024Z
LAST-MODIFIED:20260112T181543Z
UID:10006052-1781874000-1781884800@www.cfiq.ca
SUMMARY:Cours d'informatique en ligne (Niveau Intermédiaire-Avancé)
DESCRIPTION:
URL:https://www.cfiq.ca/evenement/cours-dinformatique-en-ligne-niveau-intermediaire-avance-2/2026-06-19/
LOCATION:Événement en ligne
CATEGORIES:Formations d’appoint
ORGANIZER;CN="Collectif - B%C3%A9langer":MAILTO:emploi@cfiq.ca
END:VEVENT
BEGIN:VEVENT
DTSTART;TZID=America/Toronto:20260626T090000
DTEND;TZID=America/Toronto:20260626T120000
DTSTAMP:20260425T090204
CREATED:20260109T143132Z
LAST-MODIFIED:20260112T183437Z
UID:10006105-1782464400-1782475200@www.cfiq.ca
SUMMARY:Cours d'informatique en ligne (niveau débutant)
DESCRIPTION:
URL:https://www.cfiq.ca/evenement/cours-dinformatique-en-ligne-niveau-debutant/2026-06-26/
LOCATION:Événement en ligne
CATEGORIES:Formations d’appoint
ORGANIZER;CN="Collectif - B%C3%A9langer":MAILTO:emploi@cfiq.ca
END:VEVENT
BEGIN:VEVENT
DTSTART;TZID=America/Toronto:20260626T130000
DTEND;TZID=America/Toronto:20260626T160000
DTSTAMP:20260425T090204
CREATED:20260112T141024Z
LAST-MODIFIED:20260112T181543Z
UID:10006053-1782478800-1782489600@www.cfiq.ca
SUMMARY:Cours d'informatique en ligne (Niveau Intermédiaire-Avancé)
DESCRIPTION:
URL:https://www.cfiq.ca/evenement/cours-dinformatique-en-ligne-niveau-intermediaire-avance-2/2026-06-26/
LOCATION:Événement en ligne
CATEGORIES:Formations d’appoint
ORGANIZER;CN="Collectif - B%C3%A9langer":MAILTO:emploi@cfiq.ca
END:VEVENT
BEGIN:VEVENT
DTSTART;TZID=America/Toronto:20260703T090000
DTEND;TZID=America/Toronto:20260703T120000
DTSTAMP:20260425T090204
CREATED:20260109T143132Z
LAST-MODIFIED:20260112T183437Z
UID:10006106-1783069200-1783080000@www.cfiq.ca
SUMMARY:Cours d'informatique en ligne (niveau débutant)
DESCRIPTION:
URL:https://www.cfiq.ca/evenement/cours-dinformatique-en-ligne-niveau-debutant/2026-07-03/
LOCATION:Événement en ligne
CATEGORIES:Formations d’appoint
ORGANIZER;CN="Collectif - B%C3%A9langer":MAILTO:emploi@cfiq.ca
END:VEVENT
BEGIN:VEVENT
DTSTART;TZID=America/Toronto:20260703T130000
DTEND;TZID=America/Toronto:20260703T160000
DTSTAMP:20260425T090204
CREATED:20260112T141024Z
LAST-MODIFIED:20260112T181543Z
UID:10006054-1783083600-1783094400@www.cfiq.ca
SUMMARY:Cours d'informatique en ligne (Niveau Intermédiaire-Avancé)
DESCRIPTION:
URL:https://www.cfiq.ca/evenement/cours-dinformatique-en-ligne-niveau-intermediaire-avance-2/2026-07-03/
LOCATION:Événement en ligne
CATEGORIES:Formations d’appoint
ORGANIZER;CN="Collectif - B%C3%A9langer":MAILTO:emploi@cfiq.ca
END:VEVENT
BEGIN:VEVENT
DTSTART;TZID=America/Toronto:20260710T090000
DTEND;TZID=America/Toronto:20260710T120000
DTSTAMP:20260425T090204
CREATED:20260109T143132Z
LAST-MODIFIED:20260112T183437Z
UID:10006107-1783674000-1783684800@www.cfiq.ca
SUMMARY:Cours d'informatique en ligne (niveau débutant)
DESCRIPTION:
URL:https://www.cfiq.ca/evenement/cours-dinformatique-en-ligne-niveau-debutant/2026-07-10/
LOCATION:Événement en ligne
CATEGORIES:Formations d’appoint
ORGANIZER;CN="Collectif - B%C3%A9langer":MAILTO:emploi@cfiq.ca
END:VEVENT
BEGIN:VEVENT
DTSTART;TZID=America/Toronto:20260710T130000
DTEND;TZID=America/Toronto:20260710T160000
DTSTAMP:20260425T090204
CREATED:20260112T141024Z
LAST-MODIFIED:20260112T181543Z
UID:10006055-1783688400-1783699200@www.cfiq.ca
SUMMARY:Cours d'informatique en ligne (Niveau Intermédiaire-Avancé)
DESCRIPTION:
URL:https://www.cfiq.ca/evenement/cours-dinformatique-en-ligne-niveau-intermediaire-avance-2/2026-07-10/
LOCATION:Événement en ligne
CATEGORIES:Formations d’appoint
ORGANIZER;CN="Collectif - B%C3%A9langer":MAILTO:emploi@cfiq.ca
END:VEVENT
BEGIN:VEVENT
DTSTART;TZID=America/Toronto:20260717T090000
DTEND;TZID=America/Toronto:20260717T120000
DTSTAMP:20260425T090204
CREATED:20260109T143132Z
LAST-MODIFIED:20260112T183437Z
UID:10006108-1784278800-1784289600@www.cfiq.ca
SUMMARY:Cours d'informatique en ligne (niveau débutant)
DESCRIPTION:
URL:https://www.cfiq.ca/evenement/cours-dinformatique-en-ligne-niveau-debutant/2026-07-17/
LOCATION:Événement en ligne
CATEGORIES:Formations d’appoint
ORGANIZER;CN="Collectif - B%C3%A9langer":MAILTO:emploi@cfiq.ca
END:VEVENT
BEGIN:VEVENT
DTSTART;TZID=America/Toronto:20260717T130000
DTEND;TZID=America/Toronto:20260717T160000
DTSTAMP:20260425T090204
CREATED:20260112T141024Z
LAST-MODIFIED:20260112T181543Z
UID:10006056-1784293200-1784304000@www.cfiq.ca
SUMMARY:Cours d'informatique en ligne (Niveau Intermédiaire-Avancé)
DESCRIPTION:
URL:https://www.cfiq.ca/evenement/cours-dinformatique-en-ligne-niveau-intermediaire-avance-2/2026-07-17/
LOCATION:Événement en ligne
CATEGORIES:Formations d’appoint
ORGANIZER;CN="Collectif - B%C3%A9langer":MAILTO:emploi@cfiq.ca
END:VEVENT
BEGIN:VEVENT
DTSTART;TZID=America/Toronto:20260724T090000
DTEND;TZID=America/Toronto:20260724T120000
DTSTAMP:20260425T090204
CREATED:20260109T143132Z
LAST-MODIFIED:20260112T183437Z
UID:10006109-1784883600-1784894400@www.cfiq.ca
SUMMARY:Cours d'informatique en ligne (niveau débutant)
DESCRIPTION:
URL:https://www.cfiq.ca/evenement/cours-dinformatique-en-ligne-niveau-debutant/2026-07-24/
LOCATION:Événement en ligne
CATEGORIES:Formations d’appoint
ORGANIZER;CN="Collectif - B%C3%A9langer":MAILTO:emploi@cfiq.ca
END:VEVENT
BEGIN:VEVENT
DTSTART;TZID=America/Toronto:20260724T130000
DTEND;TZID=America/Toronto:20260724T160000
DTSTAMP:20260425T090204
CREATED:20260112T141024Z
LAST-MODIFIED:20260112T181543Z
UID:10006057-1784898000-1784908800@www.cfiq.ca
SUMMARY:Cours d'informatique en ligne (Niveau Intermédiaire-Avancé)
DESCRIPTION:
URL:https://www.cfiq.ca/evenement/cours-dinformatique-en-ligne-niveau-intermediaire-avance-2/2026-07-24/
LOCATION:Événement en ligne
CATEGORIES:Formations d’appoint
ORGANIZER;CN="Collectif - B%C3%A9langer":MAILTO:emploi@cfiq.ca
END:VEVENT
BEGIN:VEVENT
DTSTART;TZID=America/Toronto:20260731T090000
DTEND;TZID=America/Toronto:20260731T120000
DTSTAMP:20260425T090204
CREATED:20260109T143132Z
LAST-MODIFIED:20260112T183437Z
UID:10006110-1785488400-1785499200@www.cfiq.ca
SUMMARY:Cours d'informatique en ligne (niveau débutant)
DESCRIPTION:
URL:https://www.cfiq.ca/evenement/cours-dinformatique-en-ligne-niveau-debutant/2026-07-31/
LOCATION:Événement en ligne
CATEGORIES:Formations d’appoint
ORGANIZER;CN="Collectif - B%C3%A9langer":MAILTO:emploi@cfiq.ca
END:VEVENT
BEGIN:VEVENT
DTSTART;TZID=America/Toronto:20260731T130000
DTEND;TZID=America/Toronto:20260731T160000
DTSTAMP:20260425T090204
CREATED:20260112T141024Z
LAST-MODIFIED:20260112T181543Z
UID:10006058-1785502800-1785513600@www.cfiq.ca
SUMMARY:Cours d'informatique en ligne (Niveau Intermédiaire-Avancé)
DESCRIPTION:
URL:https://www.cfiq.ca/evenement/cours-dinformatique-en-ligne-niveau-intermediaire-avance-2/2026-07-31/
LOCATION:Événement en ligne
CATEGORIES:Formations d’appoint
ORGANIZER;CN="Collectif - B%C3%A9langer":MAILTO:emploi@cfiq.ca
END:VEVENT
BEGIN:VEVENT
DTSTART;TZID=America/Toronto:20260807T090000
DTEND;TZID=America/Toronto:20260807T120000
DTSTAMP:20260425T090204
CREATED:20260109T143132Z
LAST-MODIFIED:20260112T183437Z
UID:10006111-1786093200-1786104000@www.cfiq.ca
SUMMARY:Cours d'informatique en ligne (niveau débutant)
DESCRIPTION:
URL:https://www.cfiq.ca/evenement/cours-dinformatique-en-ligne-niveau-debutant/2026-08-07/
LOCATION:Événement en ligne
CATEGORIES:Formations d’appoint
ORGANIZER;CN="Collectif - B%C3%A9langer":MAILTO:emploi@cfiq.ca
END:VEVENT
BEGIN:VEVENT
DTSTART;TZID=America/Toronto:20260807T130000
DTEND;TZID=America/Toronto:20260807T160000
DTSTAMP:20260425T090204
CREATED:20260112T141024Z
LAST-MODIFIED:20260112T181543Z
UID:10006059-1786107600-1786118400@www.cfiq.ca
SUMMARY:Cours d'informatique en ligne (Niveau Intermédiaire-Avancé)
DESCRIPTION:
URL:https://www.cfiq.ca/evenement/cours-dinformatique-en-ligne-niveau-intermediaire-avance-2/2026-08-07/
LOCATION:Événement en ligne
CATEGORIES:Formations d’appoint
ORGANIZER;CN="Collectif - B%C3%A9langer":MAILTO:emploi@cfiq.ca
END:VEVENT
END:VCALENDAR