BEGIN:VCALENDAR
VERSION:2.0
PRODID:-//Collectif - ECPv6.15.12.2//NONSGML v1.0//EN
CALSCALE:GREGORIAN
METHOD:PUBLISH
X-ORIGINAL-URL:https://www.cfiq.ca
X-WR-CALDESC:Évènements pour Collectif
REFRESH-INTERVAL;VALUE=DURATION:PT1H
X-Robots-Tag:noindex
X-PUBLISHED-TTL:PT1H
BEGIN:VTIMEZONE
TZID:America/Toronto
BEGIN:DAYLIGHT
TZOFFSETFROM:-0500
TZOFFSETTO:-0400
TZNAME:EDT
DTSTART:20250309T070000
END:DAYLIGHT
BEGIN:STANDARD
TZOFFSETFROM:-0400
TZOFFSETTO:-0500
TZNAME:EST
DTSTART:20251102T060000
END:STANDARD
BEGIN:DAYLIGHT
TZOFFSETFROM:-0500
TZOFFSETTO:-0400
TZNAME:EDT
DTSTART:20260308T070000
END:DAYLIGHT
BEGIN:STANDARD
TZOFFSETFROM:-0400
TZOFFSETTO:-0500
TZNAME:EST
DTSTART:20261101T060000
END:STANDARD
BEGIN:DAYLIGHT
TZOFFSETFROM:-0500
TZOFFSETTO:-0400
TZNAME:EDT
DTSTART:20270314T070000
END:DAYLIGHT
BEGIN:STANDARD
TZOFFSETFROM:-0400
TZOFFSETTO:-0500
TZNAME:EST
DTSTART:20271107T060000
END:STANDARD
END:VTIMEZONE
BEGIN:VEVENT
DTSTART;TZID=America/Toronto:20260313T130000
DTEND;TZID=America/Toronto:20260313T160000
DTSTAMP:20260425T115952
CREATED:20260112T141024Z
LAST-MODIFIED:20260112T181543Z
UID:10006038-1773406800-1773417600@www.cfiq.ca
SUMMARY:Cours d'informatique en ligne (Niveau Intermédiaire-Avancé)
DESCRIPTION:
URL:https://www.cfiq.ca/evenement/cours-dinformatique-en-ligne-niveau-intermediaire-avance-2/2026-03-13/
LOCATION:Événement en ligne
CATEGORIES:Formations d’appoint
ORGANIZER;CN="Collectif - B%C3%A9langer":MAILTO:emploi@cfiq.ca
END:VEVENT
BEGIN:VEVENT
DTSTART;TZID=America/Toronto:20260313T093000
DTEND;TZID=America/Toronto:20260313T110000
DTSTAMP:20260425T115952
CREATED:20260228T223022Z
LAST-MODIFIED:20260228T223022Z
UID:10006827-1773394200-1773399600@www.cfiq.ca
SUMMARY:Accompagnement et intégration
DESCRIPTION:Atelier d’Éducation financière avec Tamar Vaillant – Conseillère en sécurité financière
URL:https://www.cfiq.ca/evenement/accompagnement-et-integration-2/
LOCATION:Événement en ligne
CATEGORIES:Accompagnement et intégration
ORGANIZER;CN="Collectif - B%C3%A9langer":MAILTO:emploi@cfiq.ca
END:VEVENT
BEGIN:VEVENT
DTSTART;TZID=America/Toronto:20260313T090000
DTEND;TZID=America/Toronto:20260313T120000
DTSTAMP:20260425T115952
CREATED:20260109T143132Z
LAST-MODIFIED:20260112T183437Z
UID:10006090-1773392400-1773403200@www.cfiq.ca
SUMMARY:Cours d'informatique en ligne (niveau débutant)
DESCRIPTION:
URL:https://www.cfiq.ca/evenement/cours-dinformatique-en-ligne-niveau-debutant/2026-03-13/
LOCATION:Événement en ligne
CATEGORIES:Formations d’appoint
ORGANIZER;CN="Collectif - B%C3%A9langer":MAILTO:emploi@cfiq.ca
END:VEVENT
BEGIN:VEVENT
DTSTART;TZID=America/Toronto:20260310T100000
DTEND;TZID=America/Toronto:20260310T113000
DTSTAMP:20260425T115952
CREATED:20260228T222637Z
LAST-MODIFIED:20260228T222637Z
UID:10006826-1773136800-1773142200@www.cfiq.ca
SUMMARY:Accompagnement et intégration
DESCRIPTION:Parlons d’équité salariale avec le CNESST – Claudie Pelletier
URL:https://www.cfiq.ca/evenement/accompagnement-et-integration/
LOCATION:Événement en ligne
CATEGORIES:Accompagnement et intégration
ORGANIZER;CN="Collectif - B%C3%A9langer":MAILTO:emploi@cfiq.ca
END:VEVENT
BEGIN:VEVENT
DTSTART;TZID=America/Toronto:20260306T130000
DTEND;TZID=America/Toronto:20260306T160000
DTSTAMP:20260425T115952
CREATED:20260112T141024Z
LAST-MODIFIED:20260112T181543Z
UID:10006037-1772802000-1772812800@www.cfiq.ca
SUMMARY:Cours d'informatique en ligne (Niveau Intermédiaire-Avancé)
DESCRIPTION:
URL:https://www.cfiq.ca/evenement/cours-dinformatique-en-ligne-niveau-intermediaire-avance-2/2026-03-06/
LOCATION:Événement en ligne
CATEGORIES:Formations d’appoint
ORGANIZER;CN="Collectif - B%C3%A9langer":MAILTO:emploi@cfiq.ca
END:VEVENT
BEGIN:VEVENT
DTSTART;TZID=America/Toronto:20260306T090000
DTEND;TZID=America/Toronto:20260306T120000
DTSTAMP:20260425T115952
CREATED:20260109T143132Z
LAST-MODIFIED:20260112T183437Z
UID:10006089-1772787600-1772798400@www.cfiq.ca
SUMMARY:Cours d'informatique en ligne (niveau débutant)
DESCRIPTION:
URL:https://www.cfiq.ca/evenement/cours-dinformatique-en-ligne-niveau-debutant/2026-03-06/
LOCATION:Événement en ligne
CATEGORIES:Formations d’appoint
ORGANIZER;CN="Collectif - B%C3%A9langer":MAILTO:emploi@cfiq.ca
END:VEVENT
BEGIN:VEVENT
DTSTART;TZID=America/Toronto:20260227T130000
DTEND;TZID=America/Toronto:20260227T160000
DTSTAMP:20260425T115952
CREATED:20260112T141024Z
LAST-MODIFIED:20260112T181543Z
UID:10006036-1772197200-1772208000@www.cfiq.ca
SUMMARY:Cours d'informatique en ligne (Niveau Intermédiaire-Avancé)
DESCRIPTION:
URL:https://www.cfiq.ca/evenement/cours-dinformatique-en-ligne-niveau-intermediaire-avance-2/2026-02-27/
LOCATION:Événement en ligne
CATEGORIES:Formations d’appoint
ORGANIZER;CN="Collectif - B%C3%A9langer":MAILTO:emploi@cfiq.ca
END:VEVENT
BEGIN:VEVENT
DTSTART;TZID=America/Toronto:20260227T090000
DTEND;TZID=America/Toronto:20260227T120000
DTSTAMP:20260425T115952
CREATED:20260109T143132Z
LAST-MODIFIED:20260112T183437Z
UID:10006088-1772182800-1772193600@www.cfiq.ca
SUMMARY:Cours d'informatique en ligne (niveau débutant)
DESCRIPTION:
URL:https://www.cfiq.ca/evenement/cours-dinformatique-en-ligne-niveau-debutant/2026-02-27/
LOCATION:Événement en ligne
CATEGORIES:Formations d’appoint
ORGANIZER;CN="Collectif - B%C3%A9langer":MAILTO:emploi@cfiq.ca
END:VEVENT
BEGIN:VEVENT
DTSTART;TZID=America/Toronto:20260220T130000
DTEND;TZID=America/Toronto:20260220T160000
DTSTAMP:20260425T115952
CREATED:20260112T141024Z
LAST-MODIFIED:20260112T181543Z
UID:10006035-1771592400-1771603200@www.cfiq.ca
SUMMARY:Cours d'informatique en ligne (Niveau Intermédiaire-Avancé)
DESCRIPTION:
URL:https://www.cfiq.ca/evenement/cours-dinformatique-en-ligne-niveau-intermediaire-avance-2/2026-02-20/
LOCATION:Événement en ligne
CATEGORIES:Formations d’appoint
ORGANIZER;CN="Collectif - B%C3%A9langer":MAILTO:emploi@cfiq.ca
END:VEVENT
BEGIN:VEVENT
DTSTART;TZID=America/Toronto:20260220T090000
DTEND;TZID=America/Toronto:20260220T120000
DTSTAMP:20260425T115952
CREATED:20260109T143132Z
LAST-MODIFIED:20260112T183437Z
UID:10006087-1771578000-1771588800@www.cfiq.ca
SUMMARY:Cours d'informatique en ligne (niveau débutant)
DESCRIPTION:
URL:https://www.cfiq.ca/evenement/cours-dinformatique-en-ligne-niveau-debutant/2026-02-20/
LOCATION:Événement en ligne
CATEGORIES:Formations d’appoint
ORGANIZER;CN="Collectif - B%C3%A9langer":MAILTO:emploi@cfiq.ca
END:VEVENT
BEGIN:VEVENT
DTSTART;TZID=America/Toronto:20260213T130000
DTEND;TZID=America/Toronto:20260213T160000
DTSTAMP:20260425T115952
CREATED:20260112T141024Z
LAST-MODIFIED:20260112T181543Z
UID:10006034-1770987600-1770998400@www.cfiq.ca
SUMMARY:Cours d'informatique en ligne (Niveau Intermédiaire-Avancé)
DESCRIPTION:
URL:https://www.cfiq.ca/evenement/cours-dinformatique-en-ligne-niveau-intermediaire-avance-2/2026-02-13/
LOCATION:Événement en ligne
CATEGORIES:Formations d’appoint
ORGANIZER;CN="Collectif - B%C3%A9langer":MAILTO:emploi@cfiq.ca
END:VEVENT
BEGIN:VEVENT
DTSTART;TZID=America/Toronto:20260213T090000
DTEND;TZID=America/Toronto:20260213T120000
DTSTAMP:20260425T115952
CREATED:20260109T143132Z
LAST-MODIFIED:20260112T183437Z
UID:10006086-1770973200-1770984000@www.cfiq.ca
SUMMARY:Cours d'informatique en ligne (niveau débutant)
DESCRIPTION:
URL:https://www.cfiq.ca/evenement/cours-dinformatique-en-ligne-niveau-debutant/2026-02-13/
LOCATION:Événement en ligne
CATEGORIES:Formations d’appoint
ORGANIZER;CN="Collectif - B%C3%A9langer":MAILTO:emploi@cfiq.ca
END:VEVENT
BEGIN:VEVENT
DTSTART;TZID=America/Toronto:20260206T130000
DTEND;TZID=America/Toronto:20260206T160000
DTSTAMP:20260425T115952
CREATED:20260112T141024Z
LAST-MODIFIED:20260112T181543Z
UID:10006033-1770382800-1770393600@www.cfiq.ca
SUMMARY:Cours d'informatique en ligne (Niveau Intermédiaire-Avancé)
DESCRIPTION:
URL:https://www.cfiq.ca/evenement/cours-dinformatique-en-ligne-niveau-intermediaire-avance-2/2026-02-06/
LOCATION:Événement en ligne
CATEGORIES:Formations d’appoint
ORGANIZER;CN="Collectif - B%C3%A9langer":MAILTO:emploi@cfiq.ca
END:VEVENT
BEGIN:VEVENT
DTSTART;TZID=America/Toronto:20260206T090000
DTEND;TZID=America/Toronto:20260206T120000
DTSTAMP:20260425T115952
CREATED:20260109T143132Z
LAST-MODIFIED:20260112T183437Z
UID:10006085-1770368400-1770379200@www.cfiq.ca
SUMMARY:Cours d'informatique en ligne (niveau débutant)
DESCRIPTION:
URL:https://www.cfiq.ca/evenement/cours-dinformatique-en-ligne-niveau-debutant/2026-02-06/
LOCATION:Événement en ligne
CATEGORIES:Formations d’appoint
ORGANIZER;CN="Collectif - B%C3%A9langer":MAILTO:emploi@cfiq.ca
END:VEVENT
BEGIN:VEVENT
DTSTART;TZID=America/Toronto:20260130T130000
DTEND;TZID=America/Toronto:20260130T160000
DTSTAMP:20260425T115952
CREATED:20260112T141024Z
LAST-MODIFIED:20260112T181543Z
UID:10006032-1769778000-1769788800@www.cfiq.ca
SUMMARY:Cours d'informatique en ligne (Niveau Intermédiaire-Avancé)
DESCRIPTION:
URL:https://www.cfiq.ca/evenement/cours-dinformatique-en-ligne-niveau-intermediaire-avance-2/2026-01-30/
LOCATION:Événement en ligne
CATEGORIES:Formations d’appoint
ORGANIZER;CN="Collectif - B%C3%A9langer":MAILTO:emploi@cfiq.ca
END:VEVENT
BEGIN:VEVENT
DTSTART;TZID=America/Toronto:20260130T090000
DTEND;TZID=America/Toronto:20260130T120000
DTSTAMP:20260425T115952
CREATED:20260109T143132Z
LAST-MODIFIED:20260112T183437Z
UID:10006084-1769763600-1769774400@www.cfiq.ca
SUMMARY:Cours d'informatique en ligne (niveau débutant)
DESCRIPTION:
URL:https://www.cfiq.ca/evenement/cours-dinformatique-en-ligne-niveau-debutant/2026-01-30/
LOCATION:Événement en ligne
CATEGORIES:Formations d’appoint
ORGANIZER;CN="Collectif - B%C3%A9langer":MAILTO:emploi@cfiq.ca
END:VEVENT
BEGIN:VEVENT
DTSTART;TZID=America/Toronto:20260123T130000
DTEND;TZID=America/Toronto:20260123T160000
DTSTAMP:20260425T115952
CREATED:20260112T141024Z
LAST-MODIFIED:20260112T181543Z
UID:10006031-1769173200-1769184000@www.cfiq.ca
SUMMARY:Cours d'informatique en ligne (Niveau Intermédiaire-Avancé)
DESCRIPTION:
URL:https://www.cfiq.ca/evenement/cours-dinformatique-en-ligne-niveau-intermediaire-avance-2/2026-01-23/
LOCATION:Événement en ligne
CATEGORIES:Formations d’appoint
ORGANIZER;CN="Collectif - B%C3%A9langer":MAILTO:emploi@cfiq.ca
END:VEVENT
BEGIN:VEVENT
DTSTART;TZID=America/Toronto:20260123T090000
DTEND;TZID=America/Toronto:20260123T120000
DTSTAMP:20260425T115952
CREATED:20260109T143132Z
LAST-MODIFIED:20260112T183437Z
UID:10006083-1769158800-1769169600@www.cfiq.ca
SUMMARY:Cours d'informatique en ligne (niveau débutant)
DESCRIPTION:
URL:https://www.cfiq.ca/evenement/cours-dinformatique-en-ligne-niveau-debutant/2026-01-23/
LOCATION:Événement en ligne
CATEGORIES:Formations d’appoint
ORGANIZER;CN="Collectif - B%C3%A9langer":MAILTO:emploi@cfiq.ca
END:VEVENT
BEGIN:VEVENT
DTSTART;TZID=America/Toronto:20260116T130000
DTEND;TZID=America/Toronto:20260116T160000
DTSTAMP:20260425T115952
CREATED:20260112T141024Z
LAST-MODIFIED:20260112T181543Z
UID:10005941-1768568400-1768579200@www.cfiq.ca
SUMMARY:Cours d'informatique en ligne (Niveau Intermédiaire-Avancé)
DESCRIPTION:
URL:https://www.cfiq.ca/evenement/cours-dinformatique-en-ligne-niveau-intermediaire-avance-2/2026-01-16/
LOCATION:Événement en ligne
CATEGORIES:Formations d’appoint
ORGANIZER;CN="Collectif - B%C3%A9langer":MAILTO:emploi@cfiq.ca
END:VEVENT
BEGIN:VEVENT
DTSTART;TZID=America/Toronto:20260116T090000
DTEND;TZID=America/Toronto:20260116T120000
DTSTAMP:20260425T115952
CREATED:20260109T143132Z
LAST-MODIFIED:20260112T183437Z
UID:10006028-1768554000-1768564800@www.cfiq.ca
SUMMARY:Cours d'informatique en ligne (niveau débutant)
DESCRIPTION:
URL:https://www.cfiq.ca/evenement/cours-dinformatique-en-ligne-niveau-debutant/2026-01-16/
LOCATION:Événement en ligne
CATEGORIES:Formations d’appoint
ORGANIZER;CN="Collectif - B%C3%A9langer":MAILTO:emploi@cfiq.ca
END:VEVENT
END:VCALENDAR