BEGIN:VCALENDAR
VERSION:2.0
PRODID:-//Collectif - ECPv6.15.12.2//NONSGML v1.0//EN
CALSCALE:GREGORIAN
METHOD:PUBLISH
X-ORIGINAL-URL:https://www.cfiq.ca
X-WR-CALDESC:Évènements pour Collectif
REFRESH-INTERVAL;VALUE=DURATION:PT1H
X-Robots-Tag:noindex
X-PUBLISHED-TTL:PT1H
BEGIN:VTIMEZONE
TZID:America/Toronto
BEGIN:DAYLIGHT
TZOFFSETFROM:-0500
TZOFFSETTO:-0400
TZNAME:EDT
DTSTART:20250309T070000
END:DAYLIGHT
BEGIN:STANDARD
TZOFFSETFROM:-0400
TZOFFSETTO:-0500
TZNAME:EST
DTSTART:20251102T060000
END:STANDARD
BEGIN:DAYLIGHT
TZOFFSETFROM:-0500
TZOFFSETTO:-0400
TZNAME:EDT
DTSTART:20260308T070000
END:DAYLIGHT
BEGIN:STANDARD
TZOFFSETFROM:-0400
TZOFFSETTO:-0500
TZNAME:EST
DTSTART:20261101T060000
END:STANDARD
BEGIN:DAYLIGHT
TZOFFSETFROM:-0500
TZOFFSETTO:-0400
TZNAME:EDT
DTSTART:20270314T070000
END:DAYLIGHT
BEGIN:STANDARD
TZOFFSETFROM:-0400
TZOFFSETTO:-0500
TZNAME:EST
DTSTART:20271107T060000
END:STANDARD
END:VTIMEZONE
BEGIN:VEVENT
DTSTART;TZID=America/Toronto:20260424T130000
DTEND;TZID=America/Toronto:20260424T160000
DTSTAMP:20260425T080131
CREATED:20260112T141024Z
LAST-MODIFIED:20260112T181543Z
UID:10006044-1777035600-1777046400@www.cfiq.ca
SUMMARY:Cours d'informatique en ligne (Niveau Intermédiaire-Avancé)
DESCRIPTION:
URL:https://www.cfiq.ca/evenement/cours-dinformatique-en-ligne-niveau-intermediaire-avance-2/2026-04-24/
LOCATION:Événement en ligne
CATEGORIES:Formations d’appoint
ORGANIZER;CN="Collectif - B%C3%A9langer":MAILTO:emploi@cfiq.ca
END:VEVENT
BEGIN:VEVENT
DTSTART;TZID=America/Toronto:20260424T090000
DTEND;TZID=America/Toronto:20260424T120000
DTSTAMP:20260425T080131
CREATED:20260109T143132Z
LAST-MODIFIED:20260112T183437Z
UID:10006096-1777021200-1777032000@www.cfiq.ca
SUMMARY:Cours d'informatique en ligne (niveau débutant)
DESCRIPTION:
URL:https://www.cfiq.ca/evenement/cours-dinformatique-en-ligne-niveau-debutant/2026-04-24/
LOCATION:Événement en ligne
CATEGORIES:Formations d’appoint
ORGANIZER;CN="Collectif - B%C3%A9langer":MAILTO:emploi@cfiq.ca
END:VEVENT
BEGIN:VEVENT
DTSTART;TZID=America/Toronto:20260423T130000
DTEND;TZID=America/Toronto:20260423T160000
DTSTAMP:20260425T080131
CREATED:20260109T143521Z
LAST-MODIFIED:20260112T183911Z
UID:10006201-1776949200-1776960000@www.cfiq.ca
SUMMARY:Cours d'informatique Powerpoint (Niveau Intermédiaire-Avancé)
DESCRIPTION:
URL:https://www.cfiq.ca/evenement/cours-dinformatique-powerpoint-niveau-intermediaire-avance/2026-04-23/
LOCATION:Collectif – Bélanger\, 4155\, rue Bélanger Est\, Montréal\, Québec\, H1T 1A2\, Canada
CATEGORIES:Formations d’appoint
ORGANIZER;CN="Collectif - B%C3%A9langer":MAILTO:emploi@cfiq.ca
END:VEVENT
BEGIN:VEVENT
DTSTART;TZID=America/Toronto:20260423T090000
DTEND;TZID=America/Toronto:20260423T120000
DTSTAMP:20260425T080131
CREATED:20260109T221626Z
LAST-MODIFIED:20260112T190357Z
UID:10006461-1776934800-1776945600@www.cfiq.ca
SUMMARY:Cours d'informatique Powerpoint (niveau Débutant)
DESCRIPTION:
URL:https://www.cfiq.ca/evenement/cours-dinformatique-sur-powerpoint-niveau-debutant-2/2026-04-23/
LOCATION:Collectif – Bélanger\, 4155\, rue Bélanger Est\, Montréal\, Québec\, H1T 1A2\, Canada
CATEGORIES:Formations d’appoint
ORGANIZER;CN="Collectif - B%C3%A9langer":MAILTO:emploi@cfiq.ca
END:VEVENT
BEGIN:VEVENT
DTSTART;TZID=America/Toronto:20260423T090000
DTEND;TZID=America/Toronto:20260423T120000
DTSTAMP:20260425T080131
CREATED:20260109T144543Z
LAST-MODIFIED:20260112T184116Z
UID:10006253-1776934800-1776945600@www.cfiq.ca
SUMMARY:Atelier de conversation en anglais (niveau intermédiaire)
DESCRIPTION:
URL:https://www.cfiq.ca/evenement/atelier-de-conversation-en-anglais-niveau-intermediaire/2026-04-23/
LOCATION:Hybride Bélanger (en ligne et présentiel)\, 4155 Rue Bélanger\, Montréal\, Québec\, H1T 1A2\, Canada
CATEGORIES:Formations d’appoint
ORGANIZER;CN="Collectif - B%C3%A9langer":MAILTO:emploi@cfiq.ca
END:VEVENT
BEGIN:VEVENT
DTSTART;TZID=America/Toronto:20260422T130000
DTEND;TZID=America/Toronto:20260422T160000
DTSTAMP:20260425T080131
CREATED:20260109T222211Z
LAST-MODIFIED:20260112T184326Z
UID:10006305-1776862800-1776873600@www.cfiq.ca
SUMMARY:Cours d'informatique Outlook(Niveau Intermédiaire-Avancé)
DESCRIPTION:
URL:https://www.cfiq.ca/evenement/cours-dinformatique-outlookniveau-intermediaire-avance-2/2026-04-22/
LOCATION:Collectif – Bélanger\, 4155\, rue Bélanger Est\, Montréal\, Québec\, H1T 1A2\, Canada
CATEGORIES:Formations d’appoint
ORGANIZER;CN="Collectif - B%C3%A9langer":MAILTO:emploi@cfiq.ca
END:VEVENT
BEGIN:VEVENT
DTSTART;TZID=America/Toronto:20260422T090000
DTEND;TZID=America/Toronto:20260422T120000
DTSTAMP:20260425T080131
CREATED:20260109T222845Z
LAST-MODIFIED:20260112T194809Z
UID:10006773-1776848400-1776859200@www.cfiq.ca
SUMMARY:Atelier de conversation en anglais (niveau débutant)
DESCRIPTION:
URL:https://www.cfiq.ca/evenement/atelier-de-conversation-en-anglais-niveau-debutant-2/2026-04-22/
LOCATION:Hybride Bélanger (en ligne et présentiel)\, 4155 Rue Bélanger\, Montréal\, Québec\, H1T 1A2\, Canada
CATEGORIES:Formations d’appoint
ORGANIZER;CN="Collectif - B%C3%A9langer":MAILTO:emploi@cfiq.ca
END:VEVENT
BEGIN:VEVENT
DTSTART;TZID=America/Toronto:20260422T090000
DTEND;TZID=America/Toronto:20260422T120000
DTSTAMP:20260425T080131
CREATED:20260109T152941Z
LAST-MODIFIED:20260112T190651Z
UID:10006513-1776848400-1776859200@www.cfiq.ca
SUMMARY:Cours d'informatique Outlook (niveau débutant)
DESCRIPTION:
URL:https://www.cfiq.ca/evenement/cours-dinformatique-outlook-niveau-debutant-2/2026-04-22/
LOCATION:Collectif – Bélanger\, 4155\, rue Bélanger Est\, Montréal\, Québec\, H1T 1A2\, Canada
CATEGORIES:Formations d’appoint
ORGANIZER;CN="Collectif - B%C3%A9langer":MAILTO:emploi@cfiq.ca
END:VEVENT
BEGIN:VEVENT
DTSTART;TZID=America/Toronto:20260421T130000
DTEND;TZID=America/Toronto:20260421T160000
DTSTAMP:20260425T080131
CREATED:20260109T223143Z
LAST-MODIFIED:20260112T184640Z
UID:10006357-1776776400-1776787200@www.cfiq.ca
SUMMARY:Cours d'informatique Excel (Niveau Intermédiaire-Avancé)
DESCRIPTION:
URL:https://www.cfiq.ca/evenement/cours-dinformatique-excel-niveau-intermediaire-avance-2/2026-04-21/
LOCATION:Collectif – Bélanger\, 4155\, rue Bélanger Est\, Montréal\, Québec\, H1T 1A2\, Canada
CATEGORIES:Formations d’appoint
ORGANIZER;CN="Collectif - B%C3%A9langer":MAILTO:emploi@cfiq.ca
END:VEVENT
BEGIN:VEVENT
DTSTART;TZID=America/Toronto:20260421T090000
DTEND;TZID=America/Toronto:20260421T120000
DTSTAMP:20260425T080131
CREATED:20260112T192938Z
LAST-MODIFIED:20260112T193133Z
UID:10006669-1776762000-1776772800@www.cfiq.ca
SUMMARY:Cours d'informatique Excel (niveau débutant)
DESCRIPTION:
URL:https://www.cfiq.ca/evenement/cours-dinformatique-excel-niveau-debutant-4/2026-04-21/
LOCATION:Collectif – Bélanger\, 4155\, rue Bélanger Est\, Montréal\, Québec\, H1T 1A2\, Canada
CATEGORIES:Formations d’appoint
ORGANIZER;CN="Collectif - B%C3%A9langer":MAILTO:emploi@cfiq.ca
END:VEVENT
BEGIN:VEVENT
DTSTART;TZID=America/Toronto:20260421T090000
DTEND;TZID=America/Toronto:20260421T120000
DTSTAMP:20260425T080131
CREATED:20260112T191901Z
LAST-MODIFIED:20260112T192031Z
UID:10006617-1776762000-1776772800@www.cfiq.ca
SUMMARY:Cours d'informatique Excel (niveau débutant)
DESCRIPTION:
URL:https://www.cfiq.ca/evenement/cours-dinformatique-excel-niveau-debutant-3/2026-04-21/
LOCATION:Collectif – Bélanger\, 4155\, rue Bélanger Est\, Montréal\, Québec\, H1T 1A2\, Canada
CATEGORIES:Formations d’appoint
ORGANIZER;CN="Collectif - B%C3%A9langer":MAILTO:emploi@cfiq.ca
END:VEVENT
BEGIN:VEVENT
DTSTART;TZID=America/Toronto:20260421T090000
DTEND;TZID=America/Toronto:20260421T120000
DTSTAMP:20260425T080131
CREATED:20260112T191500Z
LAST-MODIFIED:20260112T191658Z
UID:10006565-1776762000-1776772800@www.cfiq.ca
SUMMARY:Cours d'informatique Excel (niveau débutant)
DESCRIPTION:
URL:https://www.cfiq.ca/evenement/cours-dinformatique-excel-niveau-debutant-2/2026-04-21/
LOCATION:Collectif – Bélanger\, 4155\, rue Bélanger Est\, Montréal\, Québec\, H1T 1A2\, Canada
CATEGORIES:Formations d’appoint
ORGANIZER;CN="Collectif - B%C3%A9langer":MAILTO:emploi@cfiq.ca
END:VEVENT
BEGIN:VEVENT
DTSTART;TZID=America/Toronto:20260420T130000
DTEND;TZID=America/Toronto:20260420T160000
DTSTAMP:20260425T080131
CREATED:20260112T193458Z
LAST-MODIFIED:20260112T193640Z
UID:10006721-1776690000-1776700800@www.cfiq.ca
SUMMARY:Cours d'informatique Word (Niveau Intermédiaire-Avancé)
DESCRIPTION:
URL:https://www.cfiq.ca/evenement/cours-dinformatique-word-niveau-intermediaire-avance-2/2026-04-20/
LOCATION:Collectif – Bélanger\, 4155\, rue Bélanger Est\, Montréal\, Québec\, H1T 1A2\, Canada
CATEGORIES:Formations d’appoint
ORGANIZER;CN="Collectif - B%C3%A9langer":MAILTO:emploi@cfiq.ca
END:VEVENT
BEGIN:VEVENT
DTSTART;TZID=America/Toronto:20260417T130000
DTEND;TZID=America/Toronto:20260417T160000
DTSTAMP:20260425T080131
CREATED:20260112T141024Z
LAST-MODIFIED:20260112T181543Z
UID:10006043-1776430800-1776441600@www.cfiq.ca
SUMMARY:Cours d'informatique en ligne (Niveau Intermédiaire-Avancé)
DESCRIPTION:
URL:https://www.cfiq.ca/evenement/cours-dinformatique-en-ligne-niveau-intermediaire-avance-2/2026-04-17/
LOCATION:Événement en ligne
CATEGORIES:Formations d’appoint
ORGANIZER;CN="Collectif - B%C3%A9langer":MAILTO:emploi@cfiq.ca
END:VEVENT
BEGIN:VEVENT
DTSTART;TZID=America/Toronto:20260417T090000
DTEND;TZID=America/Toronto:20260417T120000
DTSTAMP:20260425T080131
CREATED:20260109T143132Z
LAST-MODIFIED:20260112T183437Z
UID:10006095-1776416400-1776427200@www.cfiq.ca
SUMMARY:Cours d'informatique en ligne (niveau débutant)
DESCRIPTION:
URL:https://www.cfiq.ca/evenement/cours-dinformatique-en-ligne-niveau-debutant/2026-04-17/
LOCATION:Événement en ligne
CATEGORIES:Formations d’appoint
ORGANIZER;CN="Collectif - B%C3%A9langer":MAILTO:emploi@cfiq.ca
END:VEVENT
BEGIN:VEVENT
DTSTART;TZID=America/Toronto:20260416T130000
DTEND;TZID=America/Toronto:20260416T160000
DTSTAMP:20260425T080131
CREATED:20260109T143521Z
LAST-MODIFIED:20260112T183911Z
UID:10006200-1776344400-1776355200@www.cfiq.ca
SUMMARY:Cours d'informatique Powerpoint (Niveau Intermédiaire-Avancé)
DESCRIPTION:
URL:https://www.cfiq.ca/evenement/cours-dinformatique-powerpoint-niveau-intermediaire-avance/2026-04-16/
LOCATION:Collectif – Bélanger\, 4155\, rue Bélanger Est\, Montréal\, Québec\, H1T 1A2\, Canada
CATEGORIES:Formations d’appoint
ORGANIZER;CN="Collectif - B%C3%A9langer":MAILTO:emploi@cfiq.ca
END:VEVENT
BEGIN:VEVENT
DTSTART;TZID=America/Toronto:20260416T090000
DTEND;TZID=America/Toronto:20260416T120000
DTSTAMP:20260425T080131
CREATED:20260109T221626Z
LAST-MODIFIED:20260112T190357Z
UID:10006460-1776330000-1776340800@www.cfiq.ca
SUMMARY:Cours d'informatique Powerpoint (niveau Débutant)
DESCRIPTION:
URL:https://www.cfiq.ca/evenement/cours-dinformatique-sur-powerpoint-niveau-debutant-2/2026-04-16/
LOCATION:Collectif – Bélanger\, 4155\, rue Bélanger Est\, Montréal\, Québec\, H1T 1A2\, Canada
CATEGORIES:Formations d’appoint
ORGANIZER;CN="Collectif - B%C3%A9langer":MAILTO:emploi@cfiq.ca
END:VEVENT
BEGIN:VEVENT
DTSTART;TZID=America/Toronto:20260416T090000
DTEND;TZID=America/Toronto:20260416T120000
DTSTAMP:20260425T080132
CREATED:20260109T144543Z
LAST-MODIFIED:20260112T184116Z
UID:10006252-1776330000-1776340800@www.cfiq.ca
SUMMARY:Atelier de conversation en anglais (niveau intermédiaire)
DESCRIPTION:
URL:https://www.cfiq.ca/evenement/atelier-de-conversation-en-anglais-niveau-intermediaire/2026-04-16/
LOCATION:Hybride Bélanger (en ligne et présentiel)\, 4155 Rue Bélanger\, Montréal\, Québec\, H1T 1A2\, Canada
CATEGORIES:Formations d’appoint
ORGANIZER;CN="Collectif - B%C3%A9langer":MAILTO:emploi@cfiq.ca
END:VEVENT
BEGIN:VEVENT
DTSTART;TZID=America/Toronto:20260415T130000
DTEND;TZID=America/Toronto:20260415T160000
DTSTAMP:20260425T080132
CREATED:20260109T222211Z
LAST-MODIFIED:20260112T184326Z
UID:10006304-1776258000-1776268800@www.cfiq.ca
SUMMARY:Cours d'informatique Outlook(Niveau Intermédiaire-Avancé)
DESCRIPTION:
URL:https://www.cfiq.ca/evenement/cours-dinformatique-outlookniveau-intermediaire-avance-2/2026-04-15/
LOCATION:Collectif – Bélanger\, 4155\, rue Bélanger Est\, Montréal\, Québec\, H1T 1A2\, Canada
CATEGORIES:Formations d’appoint
ORGANIZER;CN="Collectif - B%C3%A9langer":MAILTO:emploi@cfiq.ca
END:VEVENT
BEGIN:VEVENT
DTSTART;TZID=America/Toronto:20260415T100000
DTEND;TZID=America/Toronto:20260415T120000
DTSTAMP:20260425T080132
CREATED:20260318T171153Z
LAST-MODIFIED:20260318T171153Z
UID:10006831-1776247200-1776254400@www.cfiq.ca
SUMMARY:Centre des Femmes
DESCRIPTION:Travailler au Québec : vos droits expliqués avec Me Sylvie Champagne (Educaloi)
URL:https://www.cfiq.ca/evenement/centre-des-femmes/
LOCATION:Collectif – Bélanger\, 4155\, rue Bélanger Est\, Montréal\, Québec\, H1T 1A2\, Canada
CATEGORIES:Centre de femmes
ORGANIZER;CN="Collectif - B%C3%A9langer":MAILTO:emploi@cfiq.ca
END:VEVENT
BEGIN:VEVENT
DTSTART;TZID=America/Toronto:20260415T090000
DTEND;TZID=America/Toronto:20260415T120000
DTSTAMP:20260425T080132
CREATED:20260109T222845Z
LAST-MODIFIED:20260112T194809Z
UID:10006772-1776243600-1776254400@www.cfiq.ca
SUMMARY:Atelier de conversation en anglais (niveau débutant)
DESCRIPTION:
URL:https://www.cfiq.ca/evenement/atelier-de-conversation-en-anglais-niveau-debutant-2/2026-04-15/
LOCATION:Hybride Bélanger (en ligne et présentiel)\, 4155 Rue Bélanger\, Montréal\, Québec\, H1T 1A2\, Canada
CATEGORIES:Formations d’appoint
ORGANIZER;CN="Collectif - B%C3%A9langer":MAILTO:emploi@cfiq.ca
END:VEVENT
BEGIN:VEVENT
DTSTART;TZID=America/Toronto:20260415T090000
DTEND;TZID=America/Toronto:20260415T120000
DTSTAMP:20260425T080132
CREATED:20260109T152941Z
LAST-MODIFIED:20260112T190651Z
UID:10006512-1776243600-1776254400@www.cfiq.ca
SUMMARY:Cours d'informatique Outlook (niveau débutant)
DESCRIPTION:
URL:https://www.cfiq.ca/evenement/cours-dinformatique-outlook-niveau-debutant-2/2026-04-15/
LOCATION:Collectif – Bélanger\, 4155\, rue Bélanger Est\, Montréal\, Québec\, H1T 1A2\, Canada
CATEGORIES:Formations d’appoint
ORGANIZER;CN="Collectif - B%C3%A9langer":MAILTO:emploi@cfiq.ca
END:VEVENT
BEGIN:VEVENT
DTSTART;TZID=America/Toronto:20260414T130000
DTEND;TZID=America/Toronto:20260414T160000
DTSTAMP:20260425T080132
CREATED:20260109T223143Z
LAST-MODIFIED:20260112T184640Z
UID:10006356-1776171600-1776182400@www.cfiq.ca
SUMMARY:Cours d'informatique Excel (Niveau Intermédiaire-Avancé)
DESCRIPTION:
URL:https://www.cfiq.ca/evenement/cours-dinformatique-excel-niveau-intermediaire-avance-2/2026-04-14/
LOCATION:Collectif – Bélanger\, 4155\, rue Bélanger Est\, Montréal\, Québec\, H1T 1A2\, Canada
CATEGORIES:Formations d’appoint
ORGANIZER;CN="Collectif - B%C3%A9langer":MAILTO:emploi@cfiq.ca
END:VEVENT
BEGIN:VEVENT
DTSTART;TZID=America/Toronto:20260414T090000
DTEND;TZID=America/Toronto:20260414T120000
DTSTAMP:20260425T080132
CREATED:20260112T192938Z
LAST-MODIFIED:20260112T193133Z
UID:10006668-1776157200-1776168000@www.cfiq.ca
SUMMARY:Cours d'informatique Excel (niveau débutant)
DESCRIPTION:
URL:https://www.cfiq.ca/evenement/cours-dinformatique-excel-niveau-debutant-4/2026-04-14/
LOCATION:Collectif – Bélanger\, 4155\, rue Bélanger Est\, Montréal\, Québec\, H1T 1A2\, Canada
CATEGORIES:Formations d’appoint
ORGANIZER;CN="Collectif - B%C3%A9langer":MAILTO:emploi@cfiq.ca
END:VEVENT
BEGIN:VEVENT
DTSTART;TZID=America/Toronto:20260414T090000
DTEND;TZID=America/Toronto:20260414T120000
DTSTAMP:20260425T080132
CREATED:20260112T191901Z
LAST-MODIFIED:20260112T192031Z
UID:10006616-1776157200-1776168000@www.cfiq.ca
SUMMARY:Cours d'informatique Excel (niveau débutant)
DESCRIPTION:
URL:https://www.cfiq.ca/evenement/cours-dinformatique-excel-niveau-debutant-3/2026-04-14/
LOCATION:Collectif – Bélanger\, 4155\, rue Bélanger Est\, Montréal\, Québec\, H1T 1A2\, Canada
CATEGORIES:Formations d’appoint
ORGANIZER;CN="Collectif - B%C3%A9langer":MAILTO:emploi@cfiq.ca
END:VEVENT
BEGIN:VEVENT
DTSTART;TZID=America/Toronto:20260414T090000
DTEND;TZID=America/Toronto:20260414T120000
DTSTAMP:20260425T080132
CREATED:20260112T191500Z
LAST-MODIFIED:20260112T191658Z
UID:10006564-1776157200-1776168000@www.cfiq.ca
SUMMARY:Cours d'informatique Excel (niveau débutant)
DESCRIPTION:
URL:https://www.cfiq.ca/evenement/cours-dinformatique-excel-niveau-debutant-2/2026-04-14/
LOCATION:Collectif – Bélanger\, 4155\, rue Bélanger Est\, Montréal\, Québec\, H1T 1A2\, Canada
CATEGORIES:Formations d’appoint
ORGANIZER;CN="Collectif - B%C3%A9langer":MAILTO:emploi@cfiq.ca
END:VEVENT
BEGIN:VEVENT
DTSTART;TZID=America/Toronto:20260413T130000
DTEND;TZID=America/Toronto:20260413T160000
DTSTAMP:20260425T080132
CREATED:20260112T193458Z
LAST-MODIFIED:20260112T193640Z
UID:10006720-1776085200-1776096000@www.cfiq.ca
SUMMARY:Cours d'informatique Word (Niveau Intermédiaire-Avancé)
DESCRIPTION:
URL:https://www.cfiq.ca/evenement/cours-dinformatique-word-niveau-intermediaire-avance-2/2026-04-13/
LOCATION:Collectif – Bélanger\, 4155\, rue Bélanger Est\, Montréal\, Québec\, H1T 1A2\, Canada
CATEGORIES:Formations d’appoint
ORGANIZER;CN="Collectif - B%C3%A9langer":MAILTO:emploi@cfiq.ca
END:VEVENT
BEGIN:VEVENT
DTSTART;TZID=America/Toronto:20260410T130000
DTEND;TZID=America/Toronto:20260410T160000
DTSTAMP:20260425T080132
CREATED:20260112T141024Z
LAST-MODIFIED:20260112T181543Z
UID:10006042-1775826000-1775836800@www.cfiq.ca
SUMMARY:Cours d'informatique en ligne (Niveau Intermédiaire-Avancé)
DESCRIPTION:
URL:https://www.cfiq.ca/evenement/cours-dinformatique-en-ligne-niveau-intermediaire-avance-2/2026-04-10/
LOCATION:Événement en ligne
CATEGORIES:Formations d’appoint
ORGANIZER;CN="Collectif - B%C3%A9langer":MAILTO:emploi@cfiq.ca
END:VEVENT
BEGIN:VEVENT
DTSTART;TZID=America/Toronto:20260410T090000
DTEND;TZID=America/Toronto:20260410T120000
DTSTAMP:20260425T080132
CREATED:20260109T143132Z
LAST-MODIFIED:20260112T183437Z
UID:10006094-1775811600-1775822400@www.cfiq.ca
SUMMARY:Cours d'informatique en ligne (niveau débutant)
DESCRIPTION:
URL:https://www.cfiq.ca/evenement/cours-dinformatique-en-ligne-niveau-debutant/2026-04-10/
LOCATION:Événement en ligne
CATEGORIES:Formations d’appoint
ORGANIZER;CN="Collectif - B%C3%A9langer":MAILTO:emploi@cfiq.ca
END:VEVENT
BEGIN:VEVENT
DTSTART;TZID=America/Toronto:20260409T130000
DTEND;TZID=America/Toronto:20260409T160000
DTSTAMP:20260425T080132
CREATED:20260109T143521Z
LAST-MODIFIED:20260112T183911Z
UID:10006199-1775739600-1775750400@www.cfiq.ca
SUMMARY:Cours d'informatique Powerpoint (Niveau Intermédiaire-Avancé)
DESCRIPTION:
URL:https://www.cfiq.ca/evenement/cours-dinformatique-powerpoint-niveau-intermediaire-avance/2026-04-09/
LOCATION:Collectif – Bélanger\, 4155\, rue Bélanger Est\, Montréal\, Québec\, H1T 1A2\, Canada
CATEGORIES:Formations d’appoint
ORGANIZER;CN="Collectif - B%C3%A9langer":MAILTO:emploi@cfiq.ca
END:VEVENT
END:VCALENDAR